BEGIN:VCALENDAR
VERSION:2.0
PRODID:-//ChamberMaster//Event Calendar 2.0//EN
METHOD:PUBLISH
X-PUBLISHED-TTL:P3D
REFRESH-INTERVAL:P3D
CALSCALE:GREGORIAN
BEGIN:VEVENT
DTSTART:20210909T160000Z
DTEND:20210909T173000Z
X-MICROSOFT-CDO-ALLDAYEVENT:FALSE
SUMMARY:Is Entrepreneurship Right For You?
DESCRIPTION:Explore entrepreneurship and small business ownership in this information session.\n\nDecide whether starting your own business is right for you.\n\nDuring this workshop\, you will:\n\n  Learn about the common traits and characteristics of entrepreneurs\n\n  Identify the risks and rewards of self-employment\n\n  Conduct a self-assessment that will help you decide if business ownership is right for you\n\n  Discuss the importance of a business plan\n\n  Find out more about CWE programs and resources that can help you move forward with your business idea\n\nAt the end of the session\, you will have the opportunity to schedule a one-one-one consultation with the CWE Program Director.
X-ALT-DESC;FMTTYPE=text/html:<p>Explore entrepreneurship and small business ownership in this information session.</p>\n\n<p>Decide whether starting your own business is right for you.</p>\n\n<p>During this workshop\, you will:</p>\n\n<p>&bull\; Learn about the common traits and characteristics of entrepreneurs</p>\n\n<p>&bull\; Identify the risks and rewards of self-employment</p>\n\n<p>&bull\; Conduct a self-assessment that will help you decide if business ownership is right for you</p>\n\n<p>&bull\; Discuss the importance of a business plan</p>\n\n<p>&bull\; Find out more about CWE programs and resources that can help you move forward with your business idea</p>\n\n<p>At the end of the session\, you will have the opportunity to schedule a one-one-one consultation with the CWE Program Director.</p>\n
LOCATION:Zoom Webinar
UID:e.2083.13106
SEQUENCE:3
DTSTAMP:20260422T104341Z
URL:https://business.cmschamber.org/events/details/is-entrepreneurship-right-for-you-09-09-2021-13106
END:VEVENT

END:VCALENDAR
