BEGIN:VCALENDAR
VERSION:2.0
PRODID:-//ChamberMaster//Event Calendar 2.0//EN
METHOD:PUBLISH
X-PUBLISHED-TTL:P3D
REFRESH-INTERVAL:P3D
CALSCALE:GREGORIAN
BEGIN:VEVENT
DTSTART:20231010T130000Z
DTEND:20231010T140000Z
X-MICROSOFT-CDO-ALLDAYEVENT:FALSE
SUMMARY:Is Your Year-End FMCSA Checklist Ready?
DESCRIPTION:With Q4 approaching\, now is a great time to go through a year-end FMCSA compliance checklist.  Not sure where to start?  Join the experts at ARCpoint Labs to review our "best practices" list including:\n\n	Driver qualification files\n	Motor vehicle reports\n	Clearinghouse queries\n	Random test minimums\n	And much more...\n\nSpeaker: Leslie Prince - DOT Compliance Director ARCpoint Labs\n\nLeslie began her career in DOT compliance in 1990 working in the drug and alcohol testing department of an occupational health clinic. Much of that time was spent working with companies regulated by either the Federal Aviation Administration or the Federal Motor Carrier Safety Administration. In 2010\, Leslie established Compliance Systems LLC\, a consulting organization with dual emphasis on motor carrier regulatory compliance and service provider training. A full-service consulting firm\, Compliance Systems specializes in policy & procedure\, management and execution of regulatory guidelines\, document management\, and software / education solutions for employer needs. She currently serves as the lead solution specialist for the ARCpoint Labs compliance team.
X-ALT-DESC;FMTTYPE=text/html:<span style="color:#252423"><span style="font-family:segoe ui\,sans-serif"><span style="font-size:12.0pt">With Q4 approaching\, now is a great time to go through a year-end FMCSA compliance checklist.&nbsp\; Not sure where to start?&nbsp\; Join the experts at ARCpoint Labs to review our &ldquo\;best practices&rdquo\; list including:</span></span></span>\n<ul>\n	<li><span style="font-family:segoe ui\,sans-serif"><span style="font-size:12.0pt">Driver qualification files</span></span></li>\n	<li><span style="font-family:segoe ui\,sans-serif"><span style="font-size:12.0pt">Motor vehicle reports</span></span></li>\n	<li><span style="font-family:segoe ui\,sans-serif"><span style="font-size:12.0pt">Clearinghouse queries</span></span></li>\n	<li><span style="font-family:segoe ui\,sans-serif"><span style="font-size:12.0pt">Random test minimums</span></span></li>\n	<li><span style="font-family:segoe ui\,sans-serif"><span style="font-size:12.0pt">And much more...</span></span></li>\n</ul>\n<strong><span style="color:#252423"><span style="font-family:segoe ui\,sans-serif"><span style="font-size:12.0pt">Speaker: Leslie Prince - DOT Compliance Director ARCpoint Labs</span></span></span></strong><br />\n<span style="color:#252423"><span style="font-family:segoe ui\,sans-serif"><span style="font-size:10.5pt">Leslie began her career in DOT compliance in 1990 working in the drug and alcohol testing department of an occupational health clinic. Much of that time was spent working with companies regulated by either the Federal Aviation Administration or the Federal Motor Carrier Safety Administration. In 2010\, Leslie established Compliance Systems LLC\, a consulting organization with dual emphasis on motor carrier regulatory compliance and service provider training. A full-service consulting firm\, Compliance Systems specializes in policy &amp\; procedure\, management and execution of regulatory guidelines\, document management\, and software / education solutions for employer needs. She currently serves as the lead solution specialist for the ARCpoint Labs compliance team.</span></span></span><br />\n&nbsp\;
LOCATION:CLICK HERE TO REGISTER
UID:e.2083.16663
SEQUENCE:3
DTSTAMP:20260420T170949Z
URL:https://business.cmschamber.org/events/details/is-your-year-end-fmcsa-checklist-ready-free-webinar-16663
END:VEVENT

END:VCALENDAR
