BEGIN:VCALENDAR
VERSION:2.0
PRODID:-//ChamberMaster//Event Calendar 2.0//EN
METHOD:PUBLISH
X-PUBLISHED-TTL:P3D
REFRESH-INTERVAL:P3D
CALSCALE:GREGORIAN
BEGIN:VEVENT
DTSTART:20191111T160000Z
DTEND:20191111T170000Z
X-MICROSOFT-CDO-ALLDAYEVENT:FALSE
SUMMARY:ISA Architect's Presentation: Innovative $100K Home
DESCRIPTION:The Chamber has found out that Brian Phillips\, Principal\, ISA Architect will be in Worcester next week at the Chamber. His firm designed the innovative $100K home in Philadelphia that was featured in the housing study\, Worcester for Everyone. If you are interested in learning more and meeting him\, you are welcomed to come to the Chamber for this special presentation.
X-ALT-DESC;FMTTYPE=text/html:<p style="margin-bottom:12.0pt"><span style="font-size:14px\;"><span style="font-family:arial\;">The Chamber has found out that Brian Phillips\, Principal\, ISA Architect will be in Worcester next week at the Chamber. His firm designed the innovative $100K home in Philadelphia that was<span style="text-align: left\; color: rgb(51\, 51\, 51)\; text-transform: none\; text-indent: 0px\; letter-spacing: normal\; font-style: normal\; font-variant: normal\; font-weight: 400\; text-decoration: none\; word-spacing: 0px\; display: inline !important\; white-space: normal\; orphans: 2\; float: none\; -webkit-text-stroke-width: 0px\; background-color: rgb(255\, 255\, 255)\;"> featured in the housing study\, Worcester for Everyone. If you</span> are interested in learning more and meeting him\, you are <span style="text-align: left\; color: rgb(51\, 51\, 51)\; text-transform: none\; text-indent: 0px\; letter-spacing: normal\; font-style: normal\; font-variant: normal\; font-weight: 400\; text-decoration: none\; word-spacing: 0px\; display: inline !important\; white-space: normal\; orphans: 2\; float: none\; -webkit-text-stroke-width: 0px\; background-color: rgb(255\, 255\, 255)\;">welcomed to come to the Chamber for this special presentation.&nbsp\;</span></span></span></p>\n
LOCATION:George F. & Sybil H. Fuller Conference Room 311 Main Street\, Suite 200 Worcester\, MA 01608 Parking: On street parking (most meters have a 2-hour limit and accept credit cards and coins)\, or surface parking lots (ranging from $5 - 15 per day depending on events and time of day). The following lots are cash only: Main Street\, across from The Palladium Exchange Street\, across from Waldo Street Waldo Street lot\, behind Mechanics Hall Nearby parking garages (within 2-3 blocks) that offer hourly rates include: Mercantile Center Garage: 201 Commercial St. | 508.791.7689 Major Taylor Blvd. Municipal Garage: 30 Major Taylor Blvd. | 508.792.0314 Pearl/Elm Garage: 20 Pearl St. | 508.799.1463
UID:e.2083.11639
SEQUENCE:3
DTSTAMP:20260423T211519Z
URL:https://business.cmschamber.org/events/details/isa-architect-innovative-100k-home-presentation-11639
END:VEVENT

END:VCALENDAR
