BEGIN:VCALENDAR
VERSION:2.0
PRODID:-//ChamberMaster//Event Calendar 2.0//EN
METHOD:PUBLISH
X-PUBLISHED-TTL:P3D
REFRESH-INTERVAL:P3D
CALSCALE:GREGORIAN
BEGIN:VEVENT
DTSTART:20230616T220000Z
DTEND:20230617T010000Z
X-MICROSOFT-CDO-ALLDAYEVENT:FALSE
SUMMARY:Jazz on the Sundial
DESCRIPTION:Join us for smooth melodies\, golden skies\, and relaxed vibes. This summer\, the warm tones of jazz music make their return to the EcoTarium. Featuring performances by the Carlos Odria Trio & the Worcester Youth Orchestra Jazz Ensemble.\n\n\n\nBring your own chairs or blankets! Food and alcohol will be available for purchase during the event.
X-ALT-DESC;FMTTYPE=text/html:Join us for smooth melodies\, golden skies\, and relaxed vibes. This summer\, the warm tones of jazz music make their return to the EcoTarium.&nbsp\;Featuring performances by the Carlos Odria Trio &amp\; the Worcester Youth Orchestra Jazz Ensemble.<br />\n<br />\nBring your own chairs or blankets! Food and alcohol will be available for purchase during the event.
LOCATION:EcoTarium - 222 Harrington Way\, Worcester\, MA 01604
UID:e.2083.15979
SEQUENCE:3
DTSTAMP:20260421T004801Z
URL:https://business.cmschamber.org/events/details/jazz-on-the-sundial-15979
END:VEVENT

END:VCALENDAR
