BEGIN:VCALENDAR
VERSION:2.0
PRODID:-//ChamberMaster//Event Calendar 2.0//EN
METHOD:PUBLISH
X-PUBLISHED-TTL:P3D
REFRESH-INTERVAL:P3D
CALSCALE:GREGORIAN
BEGIN:VEVENT
DTSTART:20200903T130000Z
DTEND:20200903T210000Z
X-MICROSOFT-CDO-ALLDAYEVENT:FALSE
SUMMARY:JobsInMA Virtual Career Fair
DESCRIPTION:JobsInMA is proud to present the Virtual MA Career Fair! For more than 20 years\, JobsInMA.com has provided job seekers with real\, local\, quality jobs online   and our successful Career Fairs have brought seekers face-to-face with recruiters from some of the best companies in Massachusetts. Now\, in support of the current COVID-19 situation\, we've moved our Career Fairs online! Virtual MA Career Fairs allow job seekers to hear from and virtually meet with employers in a webinar format. Each hour\, exhibiting employers present an overview of their company\, discuss available positions\, and respond to participants' questions.Employers interested in exhibiting\, call 877-374-1088. Job seekers\, pre-register now and be entered to win a $100 Visa gift card upon attending the webinar. It's fast and free. Register for FREE at MACareerFairs.com
X-ALT-DESC;FMTTYPE=text/html:JobsInMA is proud to present the Virtual MA Career Fair! For more than 20 years\, JobsInMA.com has provided job seekers with real\, local\, quality jobs online &mdash\; and our successful Career Fairs have brought seekers face-to-face with recruiters from some of the best companies in Massachusetts. Now\, in support of the current COVID-19 situation\, we&#39\;ve moved our Career Fairs online! Virtual MA Career Fairs allow job seekers to hear from and virtually meet with employers in a webinar format. Each hour\, exhibiting employers present an overview of their company\, discuss available positions\, and respond to participants&#39\; questions.Employers interested in exhibiting\, call 877-374-1088. Job seekers\, pre-register now and be entered to win a $100 Visa gift card upon attending the webinar. It&#39\;s fast and free. Register for FREE at MACareerFairs.com
LOCATION:Virtual
UID:e.2083.12211
SEQUENCE:3
DTSTAMP:20260423T053323Z
URL:https://business.cmschamber.org/events/details/jobsinma-virtual-career-fair-12211
END:VEVENT

END:VCALENDAR
