BEGIN:VCALENDAR
VERSION:2.0
PRODID:-//ChamberMaster//Event Calendar 2.0//EN
METHOD:PUBLISH
X-PUBLISHED-TTL:P3D
REFRESH-INTERVAL:P3D
CALSCALE:GREGORIAN
BEGIN:VEVENT
DTSTART:20230408T000000Z
DTEND:20230408T020000Z
X-MICROSOFT-CDO-ALLDAYEVENT:FALSE
SUMMARY:K Sense Co. x Tarot by T. Full Moon Candle Workshop
DESCRIPTION:Introductions:\n\nKatherine & Talysha (T) introduce themselves and the workshop go over\n\nFull Moon Meanings:\n\nT will go over the spiritual meanings of the Full Moon & a little bit of the astrology behind it.\n\nCandle Making:\n\nKatherine will lead us in creating candles and wax melts. You will make 1-18 oz candle out of a repurposed wine/champagne bottle\, you will be able to choose your scent from three options (Fernando: sandalwood & aqua de florida\, Kaycee: watermelon\, osmanthus\, and coconut\, or Seduktion: amber dark musk\, plum\, citrus\, sea salt.) plus additional customization options such as dyes\, dried herbs/flowers\, and crystals.\n\nReflection & Intention Setting:\n\nT will provide some journal prompts\, affirmations\, and guide you on creating intentions that align with the scent\, dried herbs\, and crystals you select for your candle.\n\nSocial time:\n\nGet a reading from Tarot by T\, grab a drink from the brewery\, food from Sabrosa Venezuela (they have gluten free and vegetarian options)\, and check out other products from K Sense Co.
X-ALT-DESC;FMTTYPE=text/html:<p><strong>Introductions:</strong></p>\n\n<p>Katherine &amp\; Talysha (T) introduce themselves and the workshop go over</p>\n\n<p><strong>Full Moon Meanings:</strong></p>\n\n<p>T will go over the spiritual meanings of the Full Moon &amp\; a little bit of the astrology behind it.</p>\n\n<p><strong>Candle Making:</strong></p>\n\n<p>Katherine will lead us in creating candles and wax melts. You will make 1-18 oz candle out of a repurposed wine/champagne bottle\, you will be able to choose your scent from three options (<strong>Fernando</strong>: sandalwood &amp\; aqua de florida\,&nbsp\;<strong>Kaycee</strong>: watermelon\, osmanthus\, and coconut\, or&nbsp\;<strong>Seduktion:&nbsp\;</strong>amber dark musk\, plum\, citrus\, sea salt.) plus additional customization options such as dyes\, dried herbs/flowers\, and crystals.</p>\n\n<p><strong>Reflection &amp\; Intention Setting:</strong></p>\n\n<p>T will provide some journal prompts\, affirmations\, and guide you on creating intentions that align with the scent\, dried herbs\, and crystals you select for your candle.</p>\n\n<p><strong>Social time:</strong></p>\n\n<p>Get a reading from Tarot by T\, grab a drink from the brewery\, food from Sabrosa Venezuela (they have gluten free and vegetarian options)\, and check out other products from K Sense Co.</p>\n
LOCATION:Redemption Rock Brewery 333 Shrewsbury St Worcester\, MA 01604
UID:e.2083.15508
SEQUENCE:3
DTSTAMP:20260421T042520Z
URL:https://business.cmschamber.org/events/details/k-sense-co-x-tarot-by-t-full-moon-candle-workshop-15508
END:VEVENT

END:VCALENDAR
