BEGIN:VCALENDAR
VERSION:2.0
PRODID:-//ChamberMaster//Event Calendar 2.0//EN
METHOD:PUBLISH
X-PUBLISHED-TTL:P3D
REFRESH-INTERVAL:P3D
CALSCALE:GREGORIAN
BEGIN:VEVENT
DTSTART;VALUE=DATE:20231102
DTEND;VALUE=DATE:20231103
TRANSP:TRANSPARENT
X-MICROSOFT-CDO-ALLDAYEVENT:TRUE
SUMMARY:Karaoke Night Fundraiser
DESCRIPTION:Come support my campaign to raise funds for the American Heart Association. ??\n\nAll ticket sales go toward the AHA and all tips will be donated by Husky's pub to the AHA!\n\nBest part? I'll be bartending! Bring your best voice and be ready to be served by yours truly! \n\nYou could even win one of our awesome door prizes!! \n\nGrab your friends and don't miss this fun karaoke night! ??
X-ALT-DESC;FMTTYPE=text/html:Come support my campaign to raise funds for the American Heart Association. ??<br />\nAll ticket sales go toward the AHA and all tips will be donated by Husky&rsquo\;s pub to the AHA!<br />\nBest part? I&rsquo\;ll be bartending! Bring your best voice and be ready to be served by yours truly!&nbsp\;<br />\nYou could even win one of our awesome door prizes!!&nbsp\;<br />\nGrab your friends and don&rsquo\;t miss this fun karaoke night! ??&nbsp\;
LOCATION:Husky's Pub 413 Park Ave Worcester\, MA 01610
UID:e.2083.16698
SEQUENCE:3
DTSTAMP:20260420T153819Z
URL:https://business.cmschamber.org/events/details/karaoke-night-fundraiser-16698
END:VEVENT

END:VCALENDAR
