BEGIN:VCALENDAR
VERSION:2.0
PRODID:-//ChamberMaster//Event Calendar 2.0//EN
METHOD:PUBLISH
X-PUBLISHED-TTL:P3D
REFRESH-INTERVAL:P3D
CALSCALE:GREGORIAN
BEGIN:VEVENT
DTSTART:20220125T200000Z
DTEND:20220125T210000Z
X-MICROSOFT-CDO-ALLDAYEVENT:FALSE
SUMMARY:Keep IT Simple (3T@3 Webcast Series)
DESCRIPTION:For small and midsize businesses\, particularly solopreneurs and very small businesses\, information technology is a double edged sword. Solid IT services are critical to your success\, but they consume your time and budget.\n\nUsing managed services ensures you have effective and affordable services and frees up time and money to focus on your core business activities.\n\nIn our January 3T@3 Webcast\, our CEO\, Allen Falcon\, provides an IT roadmap for solopreneurs and very small businesses (those with fewer than 5 to 10 people). The roadmap is designed to ensure you have the communication\, collaboration\, and security features and functions you need\, along with the services and support to prevent IT headaches and disruptions to your business. Allen will also walk through a value analysis\, looking at the hard\, soft\, and opportunity cost and savings of well-managed IT services.\n\nPlease register and join us\, and bring your questions\, for this informative session.\n\nIf you register and cannot attend\, we will send you a link to view the recording on-demand.
X-ALT-DESC;FMTTYPE=text/html:<p>For small and midsize businesses\, particularly solopreneurs and very small businesses\, information technology is a double edged sword. Solid IT services are critical to your success\, but they consume your time and budget.</p>\n\n<p><strong>Using managed services ensures you have effective and affordable services and frees up time and money to focus on your core business activities.</strong></p>\n\n<p>In our January&nbsp\;<em>3T@3 Webcast</em>\, our CEO\, Allen Falcon\, provides an IT roadmap for solopreneurs and very small businesses (those with fewer than 5 to 10 people). The roadmap is designed to ensure you have the communication\, collaboration\, and security features and functions you need\, along with the services and support to prevent IT headaches and disruptions to your business. Allen will also walk through a value analysis\, looking at the hard\, soft\, and opportunity cost and savings of well-managed IT services.</p>\n\n<p><a href="https://pages.cumulusglobal.com/3t3-webcast-series" target="_blank">Please register and join us</a>\, and bring your questions\, for this informative session.</p>\n\n<p><em>If you register and cannot attend\, we will send you a link to view the recording on-demand.</em></p>\n
LOCATION:
UID:e.2083.13732
SEQUENCE:3
DTSTAMP:20260422T050540Z
URL:https://business.cmschamber.org/events/details/keep-it-simple-3t-3-webcast-series-13732
END:VEVENT

END:VCALENDAR
