BEGIN:VCALENDAR
VERSION:2.0
PRODID:-//ChamberMaster//Event Calendar 2.0//EN
METHOD:PUBLISH
X-PUBLISHED-TTL:P3D
REFRESH-INTERVAL:P3D
CALSCALE:GREGORIAN
BEGIN:VEVENT
DTSTART:20200212T223000Z
DTEND:20200213T003000Z
X-MICROSOFT-CDO-ALLDAYEVENT:FALSE
SUMMARY:Keeping the Books: Basic Accounting & Recordkeeping
DESCRIPTION:Whether you're just starting out or you are an experienced business owner\, staying on top of your financial recordkeeping is critical to your success.   \n\n\n\nThis workshop will provide you with an introduction to  the best practices in keeping books for your small business.  Even if you have an accountant\, this class will help you understand why good bookkeeping is valuable for effectively running your business.  \n\nTopics covered will include:\n\n\n	Bookkeeping terminology\n	Records to track and organize\n	Explanation of each financial statement\n	Bookkeeping systems \n\n\nWhen: Wednesday\, February 12 from 5:30 PM - 7:30 PM\n\nWhere:\n\nCWE Central MA\n\n69 Milk St.\, Suite 217\n\nWestborough\, MA 01581\n\nFee: $20. Must register to attend. Partial scholarships available for those that qualify\, contact Samantha for a scholarship application. \n\nClick Here to Register
X-ALT-DESC;FMTTYPE=text/html:<p>Whether you&rsquo\;re just starting out or you are an experienced business owner\, staying on top of your financial recordkeeping is critical to your success. &nbsp\;&nbsp\;<br />\n<br />\nThis workshop will provide you with an introduction to &nbsp\;the best practices in keeping books for your small business. &nbsp\;Even if you have an accountant\, this class will help you understand why good bookkeeping is valuable for effectively running your business. &nbsp\;</p>\n\n<p>Topics covered will include:</p>\n\n<ul>\n	<li>Bookkeeping terminology</li>\n	<li>Records to track and organize</li>\n	<li>Explanation of each financial statement</li>\n	<li>Bookkeeping systems&nbsp\;</li>\n</ul>\n\n<p><strong>When:&nbsp\;</strong>Wednesday\, February 12&nbsp\;from 5:30 PM - 7:30 PM</p>\n\n<p><strong>Where:</strong></p>\n\n<p>CWE Central MA<br />\n69 Milk St.\, Suite 217<br />\nWestborough\, MA 01581</p>\n\n<p><strong>Fee:&nbsp\;</strong>$20. Must register to attend. Partial scholarships available for those that qualify\, contact&nbsp\;<a href="mailto:spevear@cweonline.org" style="box-sizing: border-box\; margin: 0px\; padding: 0px\; border: 0px\; font-style: inherit\; font-variant: inherit\; font-weight: 600\; font-stretch: inherit\; font-size: inherit\; line-height: inherit\; font-family: inherit\; vertical-align: baseline\; color: rgb(70\, 102\, 194)\; text-decoration-line: none\; outline: none\; cursor: pointer\; transition: color 0.2s ease-out 0s\, background 0.2s ease-in 0s\, opacity 0.2s ease-out 0s\, border 0.2s ease-out 0s\;">Samantha&nbsp\;</a>for a scholarship application.&nbsp\;</p>\n\n<p><a href="https://www.eventbrite.com/e/cwe-central-ma-keeping-the-books-basic-record-keeping-and-accounting-tickets-86342417495" style="box-sizing: border-box\; margin: 0px\; padding: 0px\; border: 0px\; font-style: inherit\; font-variant: inherit\; font-weight: 600\; font-stretch: inherit\; font-size: inherit\; line-height: inherit\; font-family: inherit\; vertical-align: baseline\; color: rgb(70\, 102\, 194)\; text-decoration-line: none\; outline: none\; cursor: pointer\; transition: color 0.2s ease-out 0s\, background 0.2s ease-in 0s\, opacity 0.2s ease-out 0s\, border 0.2s ease-out 0s\;">Click Here to Register</a></p>\n
LOCATION:CWE Central MA 69 Milk St.\, Suite 217 Westborough\, MA 01581
UID:e.2083.11775
SEQUENCE:3
DTSTAMP:20260423T161808Z
URL:https://business.cmschamber.org/events/details/keeping-the-books-basic-accounting-recordkeeping-02-12-2020-11775
END:VEVENT

END:VCALENDAR
