BEGIN:VCALENDAR
VERSION:2.0
PRODID:-//ChamberMaster//Event Calendar 2.0//EN
METHOD:PUBLISH
X-PUBLISHED-TTL:P3D
REFRESH-INTERVAL:P3D
CALSCALE:GREGORIAN
BEGIN:VEVENT
DTSTART:20210921T140000Z
DTEND:20210921T153000Z
X-MICROSOFT-CDO-ALLDAYEVENT:FALSE
SUMMARY:Kickstart Your Social Media Blueprint with TikTok and IG Reels (Part I)
DESCRIPTION:Social media is a key component of any small business' marketing strategy. It offers a unique way to engage with your audience and build a true rapport. With new mediums like Tik Tok and Instagram Reels at the tips of our fingers\, it's hard to know where to invest our energy. In this first session of our two-part series we will talk about which social media outlets and strategies make the most sense for your business and what will give you the most bang for your buck! In this session we will lay a solid foundation for you to build a strong social media marketing strategy for your business.\n\n \n\nMeet The Instructor:  Dr. Allana Da Graca
X-ALT-DESC;FMTTYPE=text/html:<p>Social media is a key component of any small business&#39\; marketing strategy. It offers a unique way to engage with your audience and build a true rapport. With new mediums like Tik Tok and Instagram Reels at the tips of our fingers\, it&#39\;s hard to know where to invest our energy. In this first session of our two-part series we will talk about which social media outlets and strategies make the most sense for your business and what will give you the most bang for your buck! In this session we will lay a solid foundation for you to build a strong social media marketing strategy for your business.</p>\n\n<p>&nbsp\;</p>\n\n<p>Meet The Instructor:&nbsp\;&nbsp\;<a href="https://www.drallanadagracaa.com/" style="color: rgb(45\, 119\, 179)\; text-decoration-line: none\;">Dr. Allana Da Graca</a></p>\n
LOCATION:Zoom Webinar
UID:e.2083.13114
SEQUENCE:3
DTSTAMP:20260422T091646Z
URL:https://business.cmschamber.org/events/details/kickstart-your-social-media-blueprint-with-tiktok-and-ig-reels-part-i-13114
END:VEVENT

END:VCALENDAR
