BEGIN:VCALENDAR
VERSION:2.0
PRODID:-//ChamberMaster//Event Calendar 2.0//EN
METHOD:PUBLISH
X-PUBLISHED-TTL:P3D
REFRESH-INTERVAL:P3D
CALSCALE:GREGORIAN
BEGIN:VEVENT
DTSTART:20211025T140000Z
DTEND:20211025T153000Z
X-MICROSOFT-CDO-ALLDAYEVENT:FALSE
SUMMARY:Kickstart Your Social Media Blueprint with TikTok and IG Reels (Part II)
DESCRIPTION:Now that we have laid a solid foundation in Part I of this series\, we are going to get down to business and show you in real-time how to use platforms like TikTok and Instagram Reels to capture an audience\, build engagement and ultimately boost your business! We will explore what makes a strong video and share some filming best practices. You will walk away from this webinar with a solid understanding of how to use these mediums to move your business forward!\n\nMeet The Instructor:  Dr. Allana Da Graca
X-ALT-DESC;FMTTYPE=text/html:<p>Now that we have laid a solid foundation in Part I of this series\, we are going to get down to business and show you in real-time how to use platforms like TikTok and Instagram Reels to capture an audience\, build engagement and ultimately boost your business! We will explore what makes a strong video and share some filming best practices. You will walk away from this webinar with a solid understanding of how to use these mediums to move your business forward!</p>\n\n<p>Meet The Instructor:&nbsp\;&nbsp\;<a href="https://www.drallanadagracaa.com/" style="color: rgb(45\, 119\, 179)\; text-decoration-line: none\;">Dr. Allana Da Graca</a></p>\n
LOCATION:Zoom Webinar
UID:e.2083.13122
SEQUENCE:3
DTSTAMP:20260422T075821Z
URL:https://business.cmschamber.org/events/details/kickstart-your-social-media-blueprint-with-tiktok-and-ig-reels-part-ii-13122
END:VEVENT

END:VCALENDAR
