BEGIN:VCALENDAR
VERSION:2.0
PRODID:-//ChamberMaster//Event Calendar 2.0//EN
METHOD:PUBLISH
X-PUBLISHED-TTL:P3D
REFRESH-INTERVAL:P3D
CALSCALE:GREGORIAN
BEGIN:VEVENT
DTSTART:20220624T140000Z
DTEND:20220624T150000Z
X-MICROSOFT-CDO-ALLDAYEVENT:FALSE
SUMMARY:LABO Info Session (AM) at the Worcester Chamber
DESCRIPTION:LABO\, an Affiliate of the Worcester Regional Chamber of Commerce   INFORMATIONAL SESSION\n\n \n\n\nJoin us for an informative session\, interact with your fellow Chamber members\, meet the Chamber staff\, and ask questions.\n\n\n\nYou'll hear about:\n\n  The Chamber's programs and services\n\n  Public policy and legislative issues and what the Chamber is doing on your behalf\n\n  Roundtable initiatives\n\n  Business resources\n\n\n\nKnow a business that could benefit from membership? Bring them along!\n\nNot a member? Learn what joining can do for your business.
X-ALT-DESC;FMTTYPE=text/html:<div style="text-align: center\;"><strong><span style="background:white\;"><span style="color:#336666\;"><span style="font-family:arial\,sans-serif\;"><span style="font-size:13.5pt\;">LABO\, an Affiliate of the Worcester Regional Chamber of Commerce&nbsp\; &nbsp\;</span></span></span></span></strong><strong><span style="background:white\;"><span style="color:#FFCC33\;"><span style="font-family:arial\,sans-serif\;"><span style="font-size:13.5pt\;">INFORMATIONAL&nbsp\;SESSION</span></span></span></span></strong><br />\n&nbsp\;</div>\n<br />\n<span style="font-size:14px\;">Join us for an informative session\,&nbsp\;interact with your fellow Chamber&nbsp\;members\, meet the Chamber staff\,&nbsp\;and ask questions.<br />\n<br />\nYou&rsquo\;ll hear about:<br />\n&bull\; The Chamber&rsquo\;s programs&nbsp\;and services<br />\n&bull\; Public policy and legislative&nbsp\;issues and what the Chamber&nbsp\;is doing on your behalf<br />\n&bull\; Roundtable initiatives<br />\n&bull\; Business resources<br />\n<br />\n<span style="line-height: 20.8px\;">Know</span><span style="line-height: 20.8px\;">&nbsp\;a business that could benefit from&nbsp\;</span><span style="line-height: 20.8px\;">membership? Bring them along!</span><br style="line-height: 20.8px\;" />\n<span style="line-height: 20.8px\;">Not&nbsp\;a member? Learn what joining can&nbsp\;do for your business.</span></span>
LOCATION:Worcester Regional Chamber of Commerce Fuller Conference Room 311 Main Street\, suite 200 Worcester MA 01608
UID:e.2083.13959
SEQUENCE:3
DTSTAMP:20260421T202354Z
URL:https://business.cmschamber.org/events/details/labo-info-session-am-at-the-worcester-chamber-13959
END:VEVENT

END:VCALENDAR
