BEGIN:VCALENDAR
VERSION:2.0
PRODID:-//ChamberMaster//Event Calendar 2.0//EN
METHOD:PUBLISH
X-PUBLISHED-TTL:P3D
REFRESH-INTERVAL:P3D
CALSCALE:GREGORIAN
BEGIN:VEVENT
DTSTART:20231021T150000Z
DTEND:20231021T160000Z
X-MICROSOFT-CDO-ALLDAYEVENT:FALSE
SUMMARY:Launch Celebration with special guest Brigadier General Enoch O’Dell “Woody” Woodhouse II at the EcoTarium
DESCRIPTION:Meet a Tuskegee Airman at the EcoTarium\n\nSaturday\, October 21st   11:00 am\n\nJoin us for a very special celebration honoring the launch of our new traveling exhibition "Aim High: Soaring with the Tuskegee Airmen" featuring "Black Wings: American Dreams of Flight!"\n\nThis event will feature the appearance of special guest Brigadier General Enoch O'Dell "Woody" Woodhouse II\, a Tuskegee Airman and Massachusetts native!
X-ALT-DESC;FMTTYPE=text/html:<p><strong>Meet a Tuskegee Airman at the EcoTarium</strong><br />\n<strong>Saturday\, October 21st &ndash\;&nbsp\;</strong><strong>11:00 am</strong></p>\n\n<p>Join us for a very special celebration honoring the launch of our new traveling exhibition &ldquo\;<em>Aim High: Soaring with the Tuskegee Airmen</em>&rdquo\; featuring &ldquo\;<em>Black Wings: American Dreams of Flight!</em>&rdquo\;</p>\n\n<p>This event will feature the appearance of special guest Brigadier General Enoch O&rsquo\;Dell &ldquo\;Woody&rdquo\; Woodhouse II\, a Tuskegee Airman and Massachusetts native!</p>\n
LOCATION:Location: EcoTarium Museum\, 222 Harrington Way\, Worcester\, MA
UID:e.2083.16699
SEQUENCE:3
DTSTAMP:20260420T171512Z
URL:https://business.cmschamber.org/events/details/launch-celebration-with-special-guest-brigadier-general-enoch-o-dell-woody-woodhouse-ii-at-the-ecotarium-16699
END:VEVENT

END:VCALENDAR
