BEGIN:VCALENDAR
VERSION:2.0
PRODID:-//ChamberMaster//Event Calendar 2.0//EN
METHOD:PUBLISH
X-PUBLISHED-TTL:P3D
REFRESH-INTERVAL:P3D
CALSCALE:GREGORIAN
BEGIN:VEVENT
DTSTART:20240229T223000Z
DTEND:20240301T000000Z
X-MICROSOFT-CDO-ALLDAYEVENT:FALSE
SUMMARY:Leap Into Homeownership Seminar
DESCRIPTION:Buying a home can be confusing\, especially if it's your first time. Let us walk you through the process!\n\nJoin us for this homebuyer seminar\, February 29th. Listen to professional speakers and leave feeling confident in home buying\, just in time for the spring market!\n\nYou'll gain knowledge and resources that you'll need for the home buying process.\n\nYou'll hear information on current lending requirements and possible grant options. you'll learn about why working with a Real Estate Agent will only benefit you. You'll hear the process the Real Estate Attorney will follow to ensure your transaction is as smooth as possible. Finally\, you'll learn about the importance of homeowners insurance.\n\nThere will be plenty of time for questions and discussion about the process throughout our seminar. Grab a ticket today!!
X-ALT-DESC;FMTTYPE=text/html:<span style="color:rgb(5\, 5\, 5)\; font-family:segoe ui historic\,segoe ui\,helvetica\,arial\,sans-serif\; font-size:15px">Buying a home can be confusing\, especially if it&#39\;s your first time. Let us walk you through the process!</span><br />\n<span style="color:rgb(5\, 5\, 5)\; font-family:segoe ui historic\,segoe ui\,helvetica\,arial\,sans-serif\; font-size:15px">Join us for this homebuyer seminar\, February 29th. Listen to professional speakers and leave feeling confident in home buying\, just in time for the spring market!</span><br />\n<span style="color:rgb(5\, 5\, 5)\; font-family:segoe ui historic\,segoe ui\,helvetica\,arial\,sans-serif\; font-size:15px">You&#39\;ll gain knowledge and resources that you&#39\;ll need for the home buying process.</span><br />\n<span style="color:rgb(5\, 5\, 5)\; font-family:segoe ui historic\,segoe ui\,helvetica\,arial\,sans-serif\; font-size:15px">You&#39\;ll hear information on current lending requirements and possible grant options. you&#39\;ll learn about why working with a Real Estate Agent will only benefit you. You&#39\;ll hear the process the Real Estate Attorney will follow to ensure your transaction is as smooth as possible. Finally\, you&#39\;ll learn about the importance of homeowners insurance.</span><br />\n<span style="color:rgb(5\, 5\, 5)\; font-family:segoe ui historic\,segoe ui\,helvetica\,arial\,sans-serif\; font-size:15px">There will be plenty of time for questions and discussion about the process throughout our seminar. Grab a ticket today!!</span>
LOCATION:Bay State Brewing Co. 112 Harding Street Worcester\, MA
UID:e.2083.17205
SEQUENCE:3
DTSTAMP:20260420T102522Z
URL:https://business.cmschamber.org/events/details/leap-into-homeownership-seminar-17205
END:VEVENT

END:VCALENDAR
