BEGIN:VCALENDAR
VERSION:2.0
PRODID:-//ChamberMaster//Event Calendar 2.0//EN
METHOD:PUBLISH
X-PUBLISHED-TTL:P3D
REFRESH-INTERVAL:P3D
CALSCALE:GREGORIAN
BEGIN:VEVENT
DTSTART:20240220T223000Z
DTEND:20240221T000000Z
X-MICROSOFT-CDO-ALLDAYEVENT:FALSE
SUMMARY:Learning the Lean Business Model Canvas
DESCRIPTION:Feeling overwhelmed by starting your business? Does the thought of making a business plan make you quake in your boots? Break it down to a easier to tackle chunks with the Business Model Canvas!
X-ALT-DESC;FMTTYPE=text/html:<p><span style="font-size:12pt">Feeling overwhelmed by starting your business? Does the thought of making a business plan make you quake in your boots? Break it down to a easier to tackle chunks with the Business Model Canvas!&nbsp\;</span></p>\n\n<div>&nbsp\;</div>\n
LOCATION:Virtual
UID:e.2083.17244
SEQUENCE:3
DTSTAMP:20260420T102723Z
URL:https://business.cmschamber.org/events/details/learning-the-lean-business-model-canvas-02-20-2024-17244
END:VEVENT

END:VCALENDAR
