BEGIN:VCALENDAR
VERSION:2.0
PRODID:-//ChamberMaster//Event Calendar 2.0//EN
METHOD:PUBLISH
X-PUBLISHED-TTL:P3D
REFRESH-INTERVAL:P3D
CALSCALE:GREGORIAN
BEGIN:VEVENT
DTSTART:20250717T220000Z
DTEND:20250718T003000Z
X-MICROSOFT-CDO-ALLDAYEVENT:FALSE
SUMMARY:Legacy Unleashed: Own Your Legacy Ventures Official Relaunch
DESCRIPTION:Legacy Unleashed: Own Your Legacy Ventures Official Relaunch\n\nJoin us for a powerful evening of strategy\, storytelling\, and brand evolution at Legacy Unleashed the official relaunch of Own Your Legacy Ventures to help founders like YOU build businesses that don't just survive they leave a legacy.\n\nWhether you're an aspiring entrepreneur\, early-stage founder\, or community-driven leader\, this event will spark new clarity\, connection\, and confidence in your business journey.\n\nGet ready for high-impact conversations\, magnetic speakers\, networking with fellow purpose-driven professionals\, and a first look at the revamped Own Your Legacy Ventures consulting suite including our Launch Your Legacy Bundle Deal\, Legacy Builder Workshops\, and the Own Your Legacy Accelerator.\n\nThis isn't just a launch. It's your call to crown your mission.\n\n?? Real talk. ?? Real strategy. ?? Real legacy moves.\n\n \n\n? Things to Know / Event Highlights\n\n\n	??? Free with RSVP   Limited seating. First come\, first crowned.\n	?? Dynamic Speakers:\n	Racquel T. Knight\, MBA   Founder/CEO\, Own Your Legacy Ventures\n	Jetari Veal   AVP of Community & Business Development\, Workers Credit Union\n	Monica Adwani   CEO of NuRise Consulting (Host + Panelist)\n	?? First Look at New Services\n	??? Legacy Starter Kits for Attendees\n	?? Branded Photo Backdrop + Empowerment Props\n	??? Mini Legacy Activation Workshop\n	?? Giveaways + Crown Commitment Wall\n\n\n \n\n??? Agenda for the Evening\n\nTime Segment 6:00 PM: Doors Open   Legacy Lounge Networking\n\n\n	Check-in\, mingle\, and grab your Legacy Starter Kit\n	Music\, refreshments\, and photo backdrop open\n\n	| 6:20 PM | Opening Words from Host Monica Adwani\n\n	| 6:25 PM | Legacy Unleashed Keynote   Racquel T. Knight\, MBA\n\n	| 6:35 PM | Legacy Panel Talk   Monica Adwani & Jetari Veal\n\n	| 6:55 PM | Signature Service Reveal\n	Launch Your Legacy Bundle Deal\n	Legacy Builder Workshops\n	Own Your Legacy Accelerator\n\n	| 7:10 PM | Crown Your Vision Activation (Mini Journal Moment)\n\n	| 7:25 PM | Legacy Action Wall + Sign-Up Station\n\n	| 7:45 PM | Giveaways + Final Group Photo
X-ALT-DESC;FMTTYPE=text/html:<p><strong>Legacy Unleashed: Own Your Legacy Ventures Official Relaunch</strong></p>\n\n<p>Join us for a powerful evening of strategy\, storytelling\, and brand evolution at&nbsp\;<em>Legacy Unleashed</em>&mdash\;the official relaunch of&nbsp\;<strong>Own Your Legacy Ventures</strong>&nbsp\;to help founders like YOU build businesses that don&#39\;t just survive&mdash\;they&nbsp\;<em>leave a legacy</em>.</p>\n\n<p>Whether you&#39\;re an aspiring entrepreneur\, early-stage founder\, or community-driven leader\, this event will spark new clarity\, connection\, and confidence in your business journey.</p>\n\n<p>Get ready for high-impact conversations\, magnetic speakers\, networking with fellow purpose-driven professionals\, and a first look at the revamped&nbsp\;<strong>Own Your Legacy Ventures</strong>&nbsp\;consulting suite&mdash\;including our&nbsp\;<em>Launch Your Legacy Bundle Deal\, Legacy Builder Workshops</em>\, and the&nbsp\;<em>Own Your Legacy Accelerator</em>.</p>\n\n<p><strong>This isn&rsquo\;t just a launch. It&rsquo\;s your call to crown your mission.</strong><br />\n?? Real talk. ?? Real strategy. ?? Real legacy moves.</p>\n\n<p>&nbsp\;</p>\n\n<h2>?&nbsp\;Things to Know / Event Highlights</h2>\n\n<ul>\n	<li>???&nbsp\;<strong>Free with RSVP</strong>&nbsp\;&ndash\; Limited seating. First come\, first crowned.</li>\n	<li>??&nbsp\;<strong>Dynamic Speakers:</strong></li>\n	<li><strong>Racquel T. Knight\, MBA</strong>&nbsp\;&ndash\; Founder/CEO\, Own Your Legacy Ventures</li>\n	<li><strong>Jetari Veal</strong>&nbsp\;&ndash\; AVP of Community &amp\; Business Development\, Workers Credit Union</li>\n	<li><strong>Monica Adwani</strong>&nbsp\;&ndash\; CEO of NuRise Consulting (Host + Panelist)</li>\n	<li>??&nbsp\;<strong>First Look at New Services</strong></li>\n	<li>???&nbsp\;<strong>Legacy Starter Kits for Attendees</strong></li>\n	<li>??&nbsp\;<strong>Branded Photo Backdrop + Empowerment Props</strong></li>\n	<li>???&nbsp\;<strong>Mini Legacy Activation Workshop</strong></li>\n	<li>??&nbsp\;<strong>Giveaways + Crown Commitment Wall</strong></li>\n</ul>\n\n<p>&nbsp\;</p>\n\n<h2>???&nbsp\;Agenda for the Evening</h2>\n\n<p><strong>Time&nbsp\;</strong><strong>Segment&nbsp\;</strong><strong>6:00 PM:&nbsp\;</strong><strong>Doors Open &ndash\; Legacy Lounge Networking</strong></p>\n\n<ul>\n	<li>Check-in\, mingle\, and grab your Legacy Starter Kit</li>\n	<li>Music\, refreshments\, and photo backdrop open<br />\n	|&nbsp\;<strong>6:20 PM</strong>&nbsp\;|&nbsp\;<strong>Opening Words from Host Monica Adwani</strong><br />\n	|&nbsp\;<strong>6:25 PM</strong>&nbsp\;|&nbsp\;<strong>Legacy Unleashed Keynote &ndash\; Racquel T. Knight\, MBA</strong><br />\n	|&nbsp\;<strong>6:35 PM</strong>&nbsp\;|&nbsp\;<strong>Legacy Panel Talk &ndash\; Monica Adwani &amp\; Jetari Veal</strong><br />\n	|&nbsp\;<strong>6:55 PM</strong>&nbsp\;|&nbsp\;<strong>Signature Service Reveal</strong></li>\n	<li>Launch Your Legacy Bundle Deal</li>\n	<li>Legacy Builder Workshops</li>\n	<li>Own Your Legacy Accelerator<br />\n	|&nbsp\;<strong>7:10 PM</strong>&nbsp\;|&nbsp\;<strong>Crown Your Vision Activation (Mini Journal Moment)</strong><br />\n	|&nbsp\;<strong>7:25 PM</strong>&nbsp\;|&nbsp\;<strong>Legacy Action Wall + Sign-Up Station</strong><br />\n	|&nbsp\;<strong>7:45 PM</strong>&nbsp\;|&nbsp\;<strong>Giveaways + Final Group Photo</strong></li>\n</ul>\n
LOCATION:Workers Credit Union 301 Grove Street Worcester\, MA 01605
UID:e.2083.19475
SEQUENCE:3
DTSTAMP:20260421T084603Z
URL:https://business.cmschamber.org/events/details/legacy-unleashed-own-your-legacy-ventures-official-relaunch-19475
END:VEVENT

END:VCALENDAR
