BEGIN:VCALENDAR
VERSION:2.0
PRODID:-//ChamberMaster//Event Calendar 2.0//EN
METHOD:PUBLISH
X-PUBLISHED-TTL:P3D
REFRESH-INTERVAL:P3D
CALSCALE:GREGORIAN
BEGIN:VEVENT
DTSTART:20221115T170000Z
DTEND:20221115T183000Z
X-MICROSOFT-CDO-ALLDAYEVENT:FALSE
SUMMARY:Legal Considerations for New Business Owners
DESCRIPTION:This workshop provides a high-level overview of a range of legal issues that entrepreneurs should be aware of when starting a new company.  Attend this workshop to learn how to avoid common mistakes and employ preventative measures that can protect and ensure the success of your new business.  Workshop topics will include:\n\n\n	Entity formation\n	Contract basics\n	IP considerations\n	Licenses and regulations
X-ALT-DESC;FMTTYPE=text/html:<p>This workshop provides a high-level overview of a range of legal issues that entrepreneurs should be aware of when starting a new company.&nbsp\; Attend this workshop to learn how to avoid common mistakes and employ preventative measures that can protect and ensure the success of your new business.&nbsp\; Workshop topics will include:</p>\n\n<ul>\n	<li>Entity formation</li>\n	<li>Contract basics</li>\n	<li>IP considerations</li>\n	<li>Licenses and regulations</li>\n</ul>\n
LOCATION:Zoom
UID:e.2083.14847
SEQUENCE:3
DTSTAMP:20260421T143912Z
URL:https://business.cmschamber.org/events/details/legal-considerations-for-new-business-owners-11-15-2022-14847
END:VEVENT

END:VCALENDAR
