BEGIN:VCALENDAR
VERSION:2.0
PRODID:-//ChamberMaster//Event Calendar 2.0//EN
METHOD:PUBLISH
X-PUBLISHED-TTL:P3D
REFRESH-INTERVAL:P3D
CALSCALE:GREGORIAN
BEGIN:VEVENT
DTSTART:20230713T133000Z
DTEND:20230713T153000Z
X-MICROSOFT-CDO-ALLDAYEVENT:FALSE
SUMMARY:Legal Considerations for "Woman-Owned" Certifications
DESCRIPTION:Are you thinking about certifying your business as woman-owned?  A common reason that applications for certification are denied\, is that the business is not set up correctly.  Join us for an overview of the process and criteria for obtaining WBE/WOSB certification and explanation of the supporting materials that must be submitted for different business types.
X-ALT-DESC;FMTTYPE=text/html:<span style="color:rgb(0\, 0\, 0)\; font-family:lato\,arial\,helvetica\,sans-serif\; font-size:16px">Are you thinking about certifying your business as woman-owned?&nbsp\; A common reason that applications for certification are denied\, is that the business is not set up correctly.&nbsp\; Join us for an overview of the process and criteria for obtaining WBE/WOSB certification and explanation of the supporting materials that must be submitted for different business types.</span>
LOCATION:Zoom
UID:e.2083.15988
SEQUENCE:3
DTSTAMP:20260420T224917Z
URL:https://business.cmschamber.org/events/details/legal-considerations-for-woman-owned-certifications-15988
END:VEVENT

END:VCALENDAR
