BEGIN:VCALENDAR
VERSION:2.0
PRODID:-//ChamberMaster//Event Calendar 2.0//EN
METHOD:PUBLISH
X-PUBLISHED-TTL:P3D
REFRESH-INTERVAL:P3D
CALSCALE:GREGORIAN
BEGIN:VEVENT
DTSTART:20200508T140000Z
DTEND:20200508T150000Z
X-MICROSOFT-CDO-ALLDAYEVENT:FALSE
SUMMARY:LIVE ZOOM WORKSHOP: How To Master Your Mindset During A Crisis. The 7 Secret Weapons Of Great Leaders Who Thrive During Challenging Times
DESCRIPTION:Join Mike Savage & business leaders for this LIVE ZOOM Workshop:\n\n\n\nHow To Master Your Mindset During A Crisis   \n\nThe 7 Secret Weapons Of Great Leaders Who Thrive During Challenging Times \n\n\n\nAs part of this ongoing Masterclass Series\, Mike will share the secrets of how the great business leaders not only survive\, but thrive during times of crisis.   \n\n\n\nMake no mistake about it\, this pandemic is a curve ball that none of us could have ever imagined or prepared for.    There is no stage of the strategic planning process that considers losing all of your employees\, your customers\, your ability to travel\, and all social interactions.   Many\, MANY business leaders have been dealt an unimaginable hand and must now navigate this storm and pull their team\, their family\, and themselves through.  While most business leaders have assessed the reality of their situation\, applied for a PPP or EIDL loan\, and have taken the necessary steps as required by law\, few are addressing the most important aspect of this crisis\, their mindset and mental state.\n\n\n\nThis is not a time to hit the bottle (a little bit is okJ)\, overindulge in food\, or blame someone else.   It is time to buckle up\, accept the current reality\, develop a new strategic plan and\, most importantly surround yourself with a positive network of problem solvers\, solution providers\, and visionaries.   \n\n\n\nDuring this LIVE ZOOM masterclass\, I will share the 7 Secret Weapons Of Great Leaders Who Thrive During Challenging Times.   Your mindset\, your language\, your focus\, your daily routine\, your peer network\, and the stuff you dump into your brain is SIGNIFICANTLY more important to your success than any tactic\, product\, or marketing plan will ever be.    We will dig into how great leaders summon their inner powers when faced with seemingly insurmountable challenges and emerge victorious.  You can and will win this battle as you manage your state of mind\, believe that the universe is unfolding as it should\, and have faith that you will successfully navigate through this adversity.
X-ALT-DESC;FMTTYPE=text/html:<span style="font-family:arial\,helvetica\,sans-serif">Join Mike Savage &amp\; business leaders for this LIVE ZOOM Workshop:<br />\n<br />\n<span style="color:#0000FF"><span style="font-size:24px"><strong>How To Master Your Mindset During A Crisis&nbsp\; </strong></span>&nbsp\;<br />\n<strong>The 7 Secret Weapons Of Great Leaders Who Thrive During Challenging Times&nbsp\;</strong></span><br />\n<br />\n<span style="font-size:14px">As part of this ongoing Masterclass Series\, Mike will share the secrets of how the great business leaders not only survive\, but thrive during times of crisis.&nbsp\; &nbsp\;<br />\n<br />\n<span style="color:black">Make no mistake about it\, this pandemic is a curve ball that none of us could have ever imagined or prepared for.&nbsp\;&nbsp\;&nbsp\; There is no stage of the strategic planning process that considers </span><span style="color:black">losing </span><span style="color:black">all </span><span style="color:black">of</span><span style="color:black"> your employees\, </span><span style="color:black">your </span><span style="color:black">customers\, your ability to travel\, and all social interactions.&nbsp\;&nbsp\; Many\, </span><strong><span style="color:black">MANY</span></strong><span style="color:black"> business leaders have been dealt an unimaginable hand and must now navigate this storm and pull their team\, their family\, and themselves through.&nbsp\; While most business leaders have assessed the reality of their situation\, applied for a PPP or EIDL loan\, and have taken the necessary steps as required by law\, few are addressing the most important aspect of this crisis\, their </span><span style="color:black">mindset and mental state.</span><br />\n<br />\n<span style="color:black">This </span><span style="color:black">is not a time to hit the bottle (a little bit is ok</span><span style="color:black">J</span><span style="color:black">)</span><span style="color:black">\, overindulge in food\, or blame someone else.&nbsp\;&nbsp\; It is time to buckle up\, accept the current reality\, </span><span style="color:black">develop a new strategic plan and</span><span style="color:black">\, most importantly surround yourself with a positive network of problem solvers\, solution providers\, and visionaries.&nbsp\;&nbsp\; </span><br />\n<br />\n<span style="color:black">During </span><span style="color:black">this LIVE ZOOM masterclass\, I will share </span><span style="color:black">the 7 </span><span style="color:black">Secret Weapons Of Great Leaders Who Thrive During Challenging </span><span style="color:black">Times</span><span style="color:black">. </span><span style="color:black">&nbsp\;&nbsp\;Your mindset\, your language\, your focus\, your daily routine\, your peer network\, and the stuff you dump into your brain is SIGNIFICANTLY more important to your success than any tactic\, product\, or marketing plan will ever be.&nbsp\;&nbsp\;&nbsp\; We </span><span style="color:black">will dig into how great leaders summon </span><span style="color:black">their </span><span style="color:black">inner </span><span style="color:black">powers when faced with seemingly insurmountable </span><span style="color:black">challenges and emerge victorious.&nbsp\; You can and </span><span style="color:black">will win this battle </span><span style="color:black">as you</span> <span style="color:black">manage </span><span style="color:black">your state of </span><span style="color:black">mind\, </span><span style="color:black">believe that the universe is unfolding as it </span><span style="color:black">should\, and have faith that you will successfully navigate through this adversity.</span></span></span><br />\n&nbsp\;
LOCATION:LIVE ZOOM WORKSHOP but pre-registration is required at the link below: https://us02web.zoom.us/meeting/register/tZAvcO2orzMiGdyMawQYSZeLaKc2KsbtiJ-N
UID:e.2083.12098
SEQUENCE:3
DTSTAMP:20260423T101241Z
URL:https://business.cmschamber.org/events/details/live-zoom-workshop-how-to-master-your-mindset-during-a-crisis-the-7-secret-weapons-of-great-leaders-who-thrive-during-challenging-times-12098
END:VEVENT

END:VCALENDAR
