BEGIN:VCALENDAR
VERSION:2.0
PRODID:-//ChamberMaster//Event Calendar 2.0//EN
METHOD:PUBLISH
X-PUBLISHED-TTL:P3D
REFRESH-INTERVAL:P3D
CALSCALE:GREGORIAN
BEGIN:VEVENT
DTSTART:20231006T120000Z
DTEND:20231006T183000Z
X-MICROSOFT-CDO-ALLDAYEVENT:FALSE
SUMMARY:Live2Lead Worcester
DESCRIPTION:WHAT IS LIVE2LEAD (L2L)?\n\nLive2Lead is an annual global leadership simulcast event with world-class leaders hosted in Atlanta\, GA\, broadcast live nationwide and worldwide. This leadership training event is produced by the Maxwell Leadership company and is a one-of-a-kind event bringing the best leadership teaching for leaders everywhere.\n\n\n\nWHO IS THIS EVENT FOR?\n\nIf you are a leader or a person of influence in any capacity seeking to be more intentional\, effective\, or better equipped\, Live2Lead is the event for you! This event is for leaders throughout the community\, college students\, volunteers\, small business owners\, CEO\, managers\, teachers\, pastors\, etc.
X-ALT-DESC;FMTTYPE=text/html:<span style="color:rgb(33\, 37\, 41)\; font-family:system-ui\,-apple-system\,segoe ui\,roboto\,helvetica neue\,arial\,noto sans\,liberation sans\,sans-serif\,apple color emoji\,segoe ui emoji\,segoe ui symbol\,noto color emoji\; font-size:14px">WHAT IS LIVE2LEAD (L2L)?<br />\nLive2Lead is an annual global leadership simulcast event with world-class leaders hosted in Atlanta\, GA\, broadcast live nationwide and worldwide. This leadership training event is produced by the Maxwell Leadership company and is a one-of-a-kind event bringing the best leadership teaching for leaders everywhere.<br />\n<br />\nWHO IS THIS EVENT FOR?<br />\nIf you are a leader or a person of influence in any capacity seeking to be more intentional\, effective\, or better equipped\, Live2Lead is the event for you! This event is for leaders throughout the community\, college students\, volunteers\, small business owners\, CEO\, managers\, teachers\, pastors\, etc.</span>
LOCATION:AC Hotel by Marriott Worcester 125 Front St\, Worcester\, MA 01608
UID:e.2083.15932
SEQUENCE:3
DTSTAMP:20260420T170816Z
URL:https://business.cmschamber.org/events/details/live2lead-worcester-2023-15932
END:VEVENT

END:VCALENDAR
