BEGIN:VCALENDAR
VERSION:2.0
PRODID:-//ChamberMaster//Event Calendar 2.0//EN
METHOD:PUBLISH
X-PUBLISHED-TTL:P3D
REFRESH-INTERVAL:P3D
CALSCALE:GREGORIAN
BEGIN:VEVENT
DTSTART:20240227T170000Z
DTEND:20240227T180000Z
X-MICROSOFT-CDO-ALLDAYEVENT:FALSE
SUMMARY:Lunch & Learn: Risk Management for Startups
DESCRIPTION:Risk Management is the process of identifying\, assessing\, and controlling financial\, legal\, strategic and security risks/ threats to an organization's capital\, earnings\, and operations.\n\nJoin us as industry veteran Rick Collins hosts an interactive workshop working with you as you understand your risk management needs as a startup or small business founder.\n\nRick A. Collins is an experienced insurance broker with more than 30 years of commercial insurance expertise. Before joining INpower\, Mr. Collins served as an SVP for several insurance brokerages in the New York area\, including Insurance Office of America\, Marsh\, and Lockton Companies. In addition to his proficiencies in risk management\, Mr. Collins is an articulate and persuasive communicator. He has delivered more than 1\,000 product seminars and is a regular guest speaker at events for decision-makers and industry professionals. Mr. Collins's unique experience allows him to provide creative solutions for complex challenges and align insurance needs and coverage for his clients.
X-ALT-DESC;FMTTYPE=text/html:<p><em>Risk Management is the process of identifying\, assessing\, and controlling financial\, legal\, strategic and security risks/ threats to an organization&#39\;s capital\, earnings\, and operations.</em></p>\n\n<p>Join us as industry veteran Rick Collins hosts an interactive workshop working with you as you understand your risk management needs as a startup or small business founder.</p>\n\n<p><strong>Rick A. Collins</strong> is an experienced insurance broker with more than 30 years of commercial insurance expertise. Before joining <a href="https://inpowerglobal.com/" rel="nofollow noopener noreferrer ugc" target="_blank" title="https://inpowerglobal.com/">INpower</a>\, Mr. Collins served as an SVP for several insurance brokerages in the New York area\, including Insurance Office of America\, Marsh\, and Lockton Companies. In addition to his proficiencies in risk management\, Mr. Collins is an articulate and persuasive communicator. He has delivered more than 1\,000 product seminars and is a regular guest speaker at events for decision-makers and industry professionals. Mr. Collins&#39\;s unique experience allows him to provide creative solutions for complex challenges and align insurance needs and coverage for his clients.</p>\n
LOCATION:Location: WorcLab - 44 Portland St\, Floor 4\, Worcester\, MA 01608 This Event is Hybrid In-Person Registration: https://www.eventbrite.com/e/lunch-learn-risk-management-tickets-793450480747?aff=oddtdtcreator Virtual Registration: https://us06web.zoom.us/meeting/register/tZUtf-usqzIpE9FaNggZNOx20LXBWdIxFWoI
UID:e.2083.17282
SEQUENCE:3
DTSTAMP:20260420T120139Z
URL:https://business.cmschamber.org/events/details/lunch-learn-risk-management-for-startups-17282
END:VEVENT

END:VCALENDAR
