BEGIN:VCALENDAR
VERSION:2.0
PRODID:-//ChamberMaster//Event Calendar 2.0//EN
METHOD:PUBLISH
X-PUBLISHED-TTL:P3D
REFRESH-INTERVAL:P3D
CALSCALE:GREGORIAN
BEGIN:VEVENT
DTSTART:20220504T200000Z
DTEND:20220504T223000Z
X-MICROSOFT-CDO-ALLDAYEVENT:FALSE
SUMMARY:Lutheran Rehab. & Skilled Care Center's New Unit Addition Groundbreaking Event
DESCRIPTION:Lutheran Rehab. & Skilled Care Center is hosting a groundbreaking event for the Center's New Unit Addition.  Construction is underway!  Lutheran is pleased to announce the addition of a 23-bed\, short-term rehabilitation and skilled care unit coming soon.  Come see the design plans\, exciting interior and exterior renderings and hear about the Center's rehabilitative and clinical programming and amenities.  Meet our dedicated care team and enjoy appetizers and refreshments in the Center's outdoor courtyard.  Special Guest to include: Senator Harriette Chandler\, Senator Michael Moore\, State Rep. John Mahoney\, State Rep. James O'Day\, and Mayor Joseph Petty.
X-ALT-DESC;FMTTYPE=text/html:Lutheran Rehab. &amp\; Skilled Care Center is hosting a groundbreaking event for the Center&#39\;s New Unit Addition.&nbsp\; Construction is underway!&nbsp\; Lutheran is pleased to announce the addition of a 23-bed\, short-term rehabilitation and skilled care unit coming soon.&nbsp\; Come see the design plans\, exciting interior and exterior renderings and hear about the Center&#39\;s rehabilitative and clinical programming and amenities.&nbsp\; Meet our dedicated care team and enjoy appetizers and refreshments in the Center&#39\;s outdoor courtyard.&nbsp\; Special Guest to include: Senator Harriette Chandler\, Senator Michael Moore\, State Rep. John Mahoney\, State Rep. James O&#39\;Day\, and Mayor Joseph Petty.&nbsp\;
LOCATION:Lutheran Rehabiliation & Skilled Care Center 26 Harvard Street Worcester\, MA 01609
UID:e.2083.13903
SEQUENCE:3
DTSTAMP:20260421T215702Z
URL:https://business.cmschamber.org/events/details/lutheran-rehab-skilled-care-center-s-new-unit-addition-groundbreaking-event-13903
END:VEVENT

END:VCALENDAR
