BEGIN:VCALENDAR
VERSION:2.0
PRODID:-//ChamberMaster//Event Calendar 2.0//EN
METHOD:PUBLISH
X-PUBLISHED-TTL:P3D
REFRESH-INTERVAL:P3D
CALSCALE:GREGORIAN
BEGIN:VEVENT
DTSTART:20230407T170000Z
DTEND:20230407T190000Z
X-MICROSOFT-CDO-ALLDAYEVENT:FALSE
SUMMARY:Main South Community Cleanup
DESCRIPTION:Join the Worcester Green Corps and Clark University's Graduate School of Management for an afternoon cleanup! Please come dressed comfortably for the weather\, with close-toed shoes. All supplies will be provided.
X-ALT-DESC;FMTTYPE=text/html:Join the Worcester Green Corps and Clark University&#39\;s Graduate School of Management for an afternoon cleanup! Please come dressed comfortably for the weather\, with close-toed shoes. All supplies will be provided.
LOCATION:We will be meeting at University Park\, on the corner of Main and Gates St.
UID:e.2083.15502
SEQUENCE:3
DTSTAMP:20260421T055610Z
URL:https://business.cmschamber.org/events/details/main-south-community-cleanup-15502
END:VEVENT

END:VCALENDAR
