BEGIN:VCALENDAR
VERSION:2.0
PRODID:-//ChamberMaster//Event Calendar 2.0//EN
METHOD:PUBLISH
X-PUBLISHED-TTL:P3D
REFRESH-INTERVAL:P3D
CALSCALE:GREGORIAN
BEGIN:VEVENT
DTSTART:20230606T160000Z
DTEND:20230606T170000Z
X-MICROSOFT-CDO-ALLDAYEVENT:FALSE
SUMMARY:Managing Credit and Debt
DESCRIPTION:This workshop will focus on the importance of credit and debt management. Your credit history is an indication of how you've managed debt and your utilization can be the determining factor of ensuring your access to capital or additional loans. During this session we will focus on:\n\n         1) Credit Optimization\n\n         2) Building\, Repairing\, and Maintaining Credit\n\n         3) Efficiently Managing Debt
X-ALT-DESC;FMTTYPE=text/html:<p>This workshop will focus on the importance of credit and debt management. Your credit history is an indication of how you&rsquo\;ve managed debt and your utilization can be the determining factor of ensuring your access to capital or additional loans. During this session we will focus on:</p>\n\n<p>&nbsp\;&nbsp\;&nbsp\;&nbsp\;&nbsp\;&nbsp\;&nbsp\;&nbsp\; 1) Credit Optimization</p>\n\n<p>&nbsp\;&nbsp\;&nbsp\;&nbsp\;&nbsp\;&nbsp\;&nbsp\;&nbsp\; 2) Building\, Repairing\, and Maintaining Credit</p>\n\n<p>&nbsp\;&nbsp\;&nbsp\;&nbsp\;&nbsp\;&nbsp\;&nbsp\;&nbsp\; 3) Efficiently Managing Debt</p>\n
LOCATION:Zoom
UID:e.2083.15957
SEQUENCE:3
DTSTAMP:20260421T004749Z
URL:https://business.cmschamber.org/events/details/managing-credit-and-debt-15957
END:VEVENT

END:VCALENDAR
