BEGIN:VCALENDAR
VERSION:2.0
PRODID:-//ChamberMaster//Event Calendar 2.0//EN
METHOD:PUBLISH
X-PUBLISHED-TTL:P3D
REFRESH-INTERVAL:P3D
CALSCALE:GREGORIAN
BEGIN:VEVENT
DTSTART:20210222T200000Z
DTEND:20210222T210000Z
X-MICROSOFT-CDO-ALLDAYEVENT:FALSE
SUMMARY:Manufacturing Cybersecurity – A 2021 Roadmap for Reducing Risk
DESCRIPTION:Did you know that in 2019\, 50% of organizations hit by cyber attacks were in the manufacturing sector?\n\nCurrent manufacturing trends   including increases in smart technology\, automation and (thank you\, pandemic) remote workers   mean cybersecurity breaches are becoming more common and more costly. How would your company survive the theft of intellectual property? Could you recover from an attack that prevents you from filling customer orders?\n\nThankfully\, there are steps Rhode Island manufacturers can take in 2021 to reduce risk and start strengthening cybersecurity defenses.\n\nIn this online event\, expert panelists will discuss cybersecurity risks and ramifications and outline a path to protecting data AND your business contracts. The session begins with comments from Congressman Jim Langevin\, who will share insights into Federal cybersecurity efforts.\n\nPresented by the Rhode Island Manufacturers Association and featuring cybersecurity experts from Vertikal6 and Polaris MEP.
X-ALT-DESC;FMTTYPE=text/html:<p>Did you know that in 2019\, 50% of organizations hit by cyber attacks were in the manufacturing sector?</p>\n\n<p>Current manufacturing trends &mdash\; including increases in smart technology\, automation and (thank you\, pandemic) remote workers &ndash\; mean cybersecurity breaches are becoming more common and more costly. How would your company survive the theft of intellectual property? Could you recover from an attack that prevents you from filling customer orders?</p>\n\n<p>Thankfully\, there are steps Rhode Island manufacturers can take in 2021 to reduce risk and start strengthening cybersecurity defenses.</p>\n\n<p>In this online event\, expert panelists will discuss cybersecurity risks and ramifications and outline a path to protecting data AND your business contracts. The session begins with comments from Congressman Jim Langevin\, who will share insights into Federal cybersecurity efforts.</p>\n\n<p>Presented by the Rhode Island Manufacturers Association and featuring cybersecurity experts from Vertikal6 and Polaris MEP.</p>\n
LOCATION:Virtual Webinar Event https://events.r20.constantcontact.com/register/eventReg?oeidk=a07ehickrwe7c0004a4&oseq=&c=&ch=
UID:e.2083.12688
SEQUENCE:3
DTSTAMP:20260422T192426Z
URL:https://business.cmschamber.org/events/details/manufacturing-cybersecurity-a-2021-roadmap-for-reducing-risk-12688
END:VEVENT

END:VCALENDAR
