BEGIN:VCALENDAR
VERSION:2.0
PRODID:-//ChamberMaster//Event Calendar 2.0//EN
METHOD:PUBLISH
X-PUBLISHED-TTL:P3D
REFRESH-INTERVAL:P3D
CALSCALE:GREGORIAN
BEGIN:VEVENT
DTSTART:20221109T170000Z
DTEND:20221109T180000Z
X-MICROSOFT-CDO-ALLDAYEVENT:FALSE
SUMMARY:Manufacturing Roundtable 11/9/22 Supply Chains and Choosing an ERP
DESCRIPTION:Our Q4 Manufacturing Roundtable will be a discussion on supply chain management with Josh Chernin of Business Improvement Group. Josh has more than 30 years of manufacturing and operations leadership in the US and Europe\, and has visited and consulted for over 300 manufacturing plants in his career. As supply chains continue to be an issue with unusually long lead times\, workforce shortages\, and inflation\, Josh will lead a discussion where we will share best practices in adapting to the new realities of supply chain management.
X-ALT-DESC;FMTTYPE=text/html:<span style="font-size:14px\;"><span style="font-family:arial\;">Our Q4 Manufacturing Roundtable will be a discussion on supply chain management with <strong>Josh Chernin</strong> of Business Improvement Group. Josh has more than 30 years of manufacturing and operations leadership in the US and Europe\, and has visited and consulted for over 300 manufacturing plants in his career. As supply chains continue to be an issue with unusually long lead times\, workforce shortages\, and inflation\, Josh will lead a discussion where we will share best practices in adapting to the new realities of supply chain management.</span></span>
LOCATION:In-person at the Chamber's office
UID:e.2083.14076
SEQUENCE:3
DTSTAMP:20260421T143409Z
URL:https://business.cmschamber.org/events/details/manufacturing-roundtable-11-9-22-supply-chains-and-choosing-an-erp-14076
END:VEVENT

END:VCALENDAR
