BEGIN:VCALENDAR
VERSION:2.0
PRODID:-//ChamberMaster//Event Calendar 2.0//EN
METHOD:PUBLISH
X-PUBLISHED-TTL:P3D
REFRESH-INTERVAL:P3D
CALSCALE:GREGORIAN
BEGIN:VEVENT
DTSTART:20231204T170000Z
DTEND:20231204T180000Z
X-MICROSOFT-CDO-ALLDAYEVENT:FALSE
SUMMARY:Manufacturing Roundtable 12/4/23 The Other Side of Automation
DESCRIPTION:Automation is without a doubt the way of the future in manufacturing. But automation is not just bringing in robots and machines to replace labor. It is about retaining good paying jobs and increasing efficiency in the workplace.\n\n\n\nJoin us to hear from Todd Basque\, an engineer from CryoXtract Instruments who has vast experience in consulting and working with manufacturing employers around Massachusetts\, including many in Central Mass. Todd will provide his insight\, including misconceptions about the benefits and drawbacks of automation\, how automation enhances efficiency\, and how it can be leveraged to positively impact workforce and employment. We also have Ellen Ellsworth\, MassMEP's Innovative Growth Services Director\, joining us to talk about her experiences advising manufacturers around the state about preparing for future growth.
X-ALT-DESC;FMTTYPE=text/html:Automation is without a doubt the way of the future in manufacturing. But automation is not just bringing in robots and machines to replace labor. It is about retaining good paying jobs and increasing efficiency in the workplace.<br />\n<br />\nJoin us to hear from <strong>Todd Basque</strong>\, an engineer from CryoXtract Instruments who has vast experience in consulting and working with manufacturing employers around Massachusetts\, including many in Central Mass. Todd will provide his insight\, including misconceptions about the benefits and drawbacks of automation\, how automation enhances efficiency\, and how it can be leveraged to positively impact workforce and employment. We also have&nbsp\;<strong>Ellen Ellsworth</strong>\, MassMEP&#39\;s Innovative Growth Services Director\, joining us to talk about her experiences advising manufacturers around the state about preparing for future growth.
LOCATION:Worcester Regional Chamber of Commerce Fuller Conference Room 311 Main Street\, Suite 200 Worcester\, MA 01608
UID:e.2083.16684
SEQUENCE:3
DTSTAMP:20260420T135311Z
URL:https://business.cmschamber.org/events/details/manufacturing-roundtable-12-4-23-the-other-side-of-automation-16684
END:VEVENT

END:VCALENDAR
