BEGIN:VCALENDAR
VERSION:2.0
PRODID:-//ChamberMaster//Event Calendar 2.0//EN
METHOD:PUBLISH
X-PUBLISHED-TTL:P3D
REFRESH-INTERVAL:P3D
CALSCALE:GREGORIAN
BEGIN:VEVENT
DTSTART:20220815T160000Z
DTEND:20220815T170000Z
X-MICROSOFT-CDO-ALLDAYEVENT:FALSE
SUMMARY:Manufacturing Roundtable 8/15/22 Workforce Development
DESCRIPTION:Our Q3 Manufacturing Roundtable will be a discussion on workforce development in the manufacturing sector with five panelists:\n\n\n\nJeff Turgeon\, Executive Director of MassHire Central Region Workforce Development Board\n\nDrew Weymouth\, Principal of Worcester Technical High School\n\nMarybeth Campbell\, Executive Director of Worcester Community Action Council and Executive Committee Member of Alliance for Vocational Technical Education\n\nSteve Savage\, Chief of Operations\, AIS\n\nKaren Ares\, Executive Director of Blackstone Valley Education Hub\n\n\n\nWith thousands of openings in manufacturing jobs\, vocational technical education has never been more important in the history of our country and our region. Each of the panelists brings a unique perspective on workforce development from their own organizations to create a fruitful discussion with our attendees. Please join us for this important roundtable discussion.
X-ALT-DESC;FMTTYPE=text/html:<span style="font-size:14px\;"><span style="font-family:arial\;">Our Q3 Manufacturing Roundtable will be a discussion on workforce development in the manufacturing sector with five panelists:<br />\n<br />\n<strong>Jeff Turgeon</strong>\, Executive Director of MassHire Central Region Workforce Development Board<br />\n<strong>Drew Weymouth</strong>\, Principal of Worcester Technical High School<br />\n<strong>Marybeth Campbell</strong>\, Executive Director of Worcester Community Action Council and Executive Committee Member of Alliance for Vocational Technical Education<br />\n<strong>Steve Savage</strong>\, Chief of Operations\, AIS<br />\n<strong>Karen Ares</strong>\, Executive Director of Blackstone Valley Education Hub<br />\n<br />\nWith thousands of openings in manufacturing jobs\, vocational technical education has never been more important in the history of our country and our region. Each of the panelists brings a unique perspective on workforce development from their own organizations to create a fruitful discussion with our attendees. Please join us for this important roundtable discussion.</span></span>
LOCATION:In-person at the Chamber's office
UID:e.2083.13963
SEQUENCE:3
DTSTAMP:20260421T184111Z
URL:https://business.cmschamber.org/events/details/manufacturing-roundtable-8-15-22-workforce-development-13963
END:VEVENT

END:VCALENDAR
