BEGIN:VCALENDAR
VERSION:2.0
PRODID:-//ChamberMaster//Event Calendar 2.0//EN
METHOD:PUBLISH
X-PUBLISHED-TTL:P3D
REFRESH-INTERVAL:P3D
CALSCALE:GREGORIAN
BEGIN:VEVENT
DTSTART:20220324T213000Z
DTEND:20220324T230000Z
X-MICROSOFT-CDO-ALLDAYEVENT:FALSE
SUMMARY:March 2022 Financial Capability Workshop
DESCRIPTION:Need help managing your finances? Interested in developing a sustainable spending plan? Take control of your financial future by attending our Financial Capability Workshop!\n\n\n\nAt this workshop you will learn about managing personal finances and be empowered to make better decisions in order to achieve financial stability for yourself and your family!
X-ALT-DESC;FMTTYPE=text/html:Need help managing your finances? Interested in developing a sustainable spending plan? Take control of your financial future by attending our Financial Capability Workshop!<br />\n<br />\nAt this workshop you will learn about managing personal finances and be empowered to make better decisions in order to achieve financial stability for yourself and your family!
LOCATION:RCAP Solutions 191 May Street Worcester\, MA 01602
UID:e.2083.13799
SEQUENCE:3
DTSTAMP:20260422T004723Z
URL:https://business.cmschamber.org/events/details/march-2022-financial-capability-workshop-13799
END:VEVENT

END:VCALENDAR
