BEGIN:VCALENDAR
VERSION:2.0
PRODID:-//ChamberMaster//Event Calendar 2.0//EN
METHOD:PUBLISH
X-PUBLISHED-TTL:P3D
REFRESH-INTERVAL:P3D
CALSCALE:GREGORIAN
BEGIN:VEVENT
DTSTART:20240314T120000Z
DTEND:20240314T140000Z
X-MICROSOFT-CDO-ALLDAYEVENT:FALSE
SUMMARY:March Executive Forum - AIM
DESCRIPTION:Please join the Associated Industries of Massachusetts for our March Executive Forum as we host Sarah Iselin\, President and CEO of Blue Cross Blue Shield of Massachusetts\, on Thursday\, March 14th from 8-10AM. This is an opportunity to network with fellow businesses from across the Commonwealth and hear observations from the president and CEO of a major Massachusetts employer and the largest health plan in the state.
X-ALT-DESC;FMTTYPE=text/html:<p><span style="font-family:tahoma\,geneva\,sans-serif\; font-size:inherit">Please join the Associated Industries of Massachusetts for our March Executive Forum as we host Sarah Iselin\, President and CEO of Blue Cross Blue Shield of Massachusetts\, on Thursday\, March 14th from 8-10AM. This is an opportunity to network with fellow businesses from across the Commonwealth and hear observations from the president and CEO of a major Massachusetts employer and the largest health plan in the state.</span></p>\n
LOCATION:The event will be hosted at Alkermes\, Inc. (900 Winter St\, Waltham\, MA 02451).
UID:e.2083.17268
SEQUENCE:3
DTSTAMP:20260420T084717Z
URL:https://business.cmschamber.org/events/details/march-executive-forum-aim-17268
END:VEVENT

END:VCALENDAR
