BEGIN:VCALENDAR
VERSION:2.0
PRODID:-//ChamberMaster//Event Calendar 2.0//EN
METHOD:PUBLISH
X-PUBLISHED-TTL:P3D
REFRESH-INTERVAL:P3D
CALSCALE:GREGORIAN
BEGIN:VEVENT
DTSTART;VALUE=DATE:20240301
DTEND;VALUE=DATE:20240401
TRANSP:TRANSPARENT
X-MICROSOFT-CDO-ALLDAYEVENT:TRUE
SUMMARY:March Golf Clinics
DESCRIPTION:Join one of the March Golf Clinics.at X-Golf. Take your game to the next level and get ready for Spring!\n\n\n\nWednesday Night Ladies Clinic - https://clients.uschedule.com/xgolfworcester/booking/event/eventdetail/738654\n\nWednesday Junior After School Clinic- https://clients.uschedule.com/xgolfworcester/booking/event/eventdetail/738651\n\nThursday Co-ed Beginner Clinic - https://clients.uschedule.com/xgolfworcester/booking/event/eventdetail/738652\n\nThursday Co-ed Intermediate Clinic - https://clients.uschedule.com/xgolfworcester/booking/event/eventdetail/738653
X-ALT-DESC;FMTTYPE=text/html:Join one of the March Golf Clinics.at X-Golf. Take your game to the next level and get ready for Spring!<br />\n<br />\nWednesday Night Ladies Clinic -&nbsp\;<a href="https://clients.uschedule.com/xgolfworcester/booking/event/eventdetail/738654">https://clients.uschedule.com/xgolfworcester/booking/event/eventdetail/738654</a><br />\nWednesday Junior After School Clinic-&nbsp\;<a href="https://clients.uschedule.com/xgolfworcester/booking/event/eventdetail/738651">https://clients.uschedule.com/xgolfworcester/booking/event/eventdetail/738651</a><br />\nThursday Co-ed Beginner Clinic -&nbsp\;<a href="https://clients.uschedule.com/xgolfworcester/booking/event/eventdetail/738652">https://clients.uschedule.com/xgolfworcester/booking/event/eventdetail/738652</a><br />\nThursday Co-ed Intermediate Clinic -&nbsp\;<a href="https://clients.uschedule.com/xgolfworcester/booking/event/eventdetail/738653">https://clients.uschedule.com/xgolfworcester/booking/event/eventdetail/738653</a>
LOCATION:X-Golf Worcester 287 Grove St. Worcester\, MA 01605
UID:e.2083.17316
SEQUENCE:3
DTSTAMP:20260420T084802Z
URL:https://business.cmschamber.org/events/details/march-golf-clinics-17316
END:VEVENT

END:VCALENDAR
