BEGIN:VCALENDAR
VERSION:2.0
PRODID:-//ChamberMaster//Event Calendar 2.0//EN
METHOD:PUBLISH
X-PUBLISHED-TTL:P3D
REFRESH-INTERVAL:P3D
CALSCALE:GREGORIAN
BEGIN:VEVENT
DTSTART:20210707T230000Z
DTEND:20210708T000000Z
X-MICROSOFT-CDO-ALLDAYEVENT:FALSE
SUMMARY:Marijuana Treatment Center Community Proposal
DESCRIPTION:Irie Cannabis is applying for a license to open a marijuana treatment center in your community and would like to formally invite you to attend a virtual community meeting to share our plans and address any concerns. Please feel free to reach out prior to the meeting with any immediate questions. We look forward to being a resource for cannabis wellness in the community.
X-ALT-DESC;FMTTYPE=text/html:Irie Cannabis is applying for a license to open a marijuana treatment center in your community and would like to formally invite you to attend a virtual community meeting to share our plans and address any concerns. Please feel free to reach out prior to the meeting with any immediate questions. We look forward to being a resource for cannabis wellness in the community.
LOCATION:Irie Cannabis Community Proposal Wednesday\, July 7 7:00 8:00pm Google Meet joining info Video call link: https://meet.google.com/mvz-xxuf-pzq
UID:e.2083.12995
SEQUENCE:3
DTSTAMP:20260422T115525Z
URL:https://business.cmschamber.org/events/details/marijuana-treatment-center-community-proposal-12995
END:VEVENT

END:VCALENDAR
