BEGIN:VCALENDAR
VERSION:2.0
PRODID:-//ChamberMaster//Event Calendar 2.0//EN
METHOD:PUBLISH
X-PUBLISHED-TTL:P3D
REFRESH-INTERVAL:P3D
CALSCALE:GREGORIAN
BEGIN:VEVENT
DTSTART:20230725T193000Z
DTEND:20230725T210000Z
X-MICROSOFT-CDO-ALLDAYEVENT:FALSE
SUMMARY:Marketing Bootcamp: Top 7 Ways to Market Your Business
DESCRIPTION:Join Ida Faber\, Marketing & Brand Strategist for this results-driven webinar!\n\n \n\nYou'll learn actionable and effective strategies to drive results. Topics include: branding\, content management\, digital and social media. Marketing can feel overwhelming\, but you'll discover how you can work smarter\, not harder in meeting your goals. You'll leave this webinar ready to grow your business!\n\n \n\n#1 Know Who You Are...and Who You're Not (branding/positioning)\n\n#2 Understand the Competition (competitive analysis)\n\n#3 Get Close to Your Customers (buyer personas)\n\n#4 Figure Out What to Say (messaging/content management)\n\n#5 And Where to Say It (channels)\n\n#6 Build Your Online Presence (digital presence)\n\n#7 And\, Last But Not Least\, Be Social (social media - including advertising and influencer marketing)
X-ALT-DESC;FMTTYPE=text/html:<div><span style="font-size:small">Join Ida Faber\, Marketing &amp\; Brand Strategist for this results-driven webinar!</span></div>\n\n<div>&nbsp\;</div>\n\n<div><span style="font-size:small">You&#39\;ll learn actionable and effective strategies to drive results. Topics include: branding\, content management\, digital and social media.&nbsp\;Marketing can feel overwhelming\, but you&#39\;ll discover how you can work smarter\, not harder in meeting your goals. You&#39\;ll leave this webinar ready to grow your business!</span></div>\n\n<div><span style="font-size:small">&nbsp\;</span></div>\n\n<div><span style="font-size:small">#1 Know Who You Are...and Who You&#39\;re Not (branding/positioning)</span></div>\n\n<div><span style="font-size:small">#2 Understand the Competition (competitive analysis)</span></div>\n\n<div><span style="font-size:small">#3 Get Close to Your Customers (buyer personas)</span></div>\n\n<div><span style="font-size:small">#4 Figure Out What to Say (messaging/content management)</span></div>\n\n<div><span style="font-size:small">#5 And Where to Say It (channels)</span></div>\n\n<div><span style="font-size:small">#6 Build Your Online Presence (digital presence)</span></div>\n\n<div><span style="font-size:small">#7 And\, Last But Not Least\, Be Social (social media - including advertising and influencer marketing)</span></div>\n
LOCATION:Zoom
UID:e.2083.15991
SEQUENCE:3
DTSTAMP:20260421T005317Z
URL:https://business.cmschamber.org/events/details/marketing-bootcamp-top-7-ways-to-market-your-business-15991
END:VEVENT

END:VCALENDAR
