BEGIN:VCALENDAR
VERSION:2.0
PRODID:-//ChamberMaster//Event Calendar 2.0//EN
METHOD:PUBLISH
X-PUBLISHED-TTL:P3D
REFRESH-INTERVAL:P3D
CALSCALE:GREGORIAN
BEGIN:VEVENT
DTSTART:20220718T160000Z
DTEND:20220718T170000Z
X-MICROSOFT-CDO-ALLDAYEVENT:FALSE
SUMMARY:Marketing Your Business on Pinterest
DESCRIPTION:Pinterest is a great platform for small businesses for a number of reasons. First\, it has a huge audience of active users - over 150 million people use Pinterest every month. This means that there is a large potential customer base for businesses to reach. Additionally\, Pinterest is a highly visual platform\, which makes it ideal for businesses in the design\, fashion\, or home decor industries. And finally\, Pinterest is a very search-friendly platform\, which means that businesses can easily get their products and services in front of interested customers. In short\, Pinterest offers small businesses a great opportunity to reach a large audience and promote their products and services.\n\nIn this session\, we will be doing a deep dive into how to be successful on Pinterest. We will discuss why Pinterest is a great platform for organic growth. We will go over the different types of pins you can create and where they can be found. We will also learn about the people that are using Pinterest and how to find your audience using SEO. Lastly\, we will learn exactly how to create successful Pinterest content.\n\nThis is an advanced marketing course. Folks who join this webinar should already have a Pinterest business page created\, and have an understanding of how to post to the platform. \n\nAbout the instructor: Jamie Cocco is the founder of Empowered Social Media. He is the self-proclaimed social media nerd who has spent the last 7 years of his life dedicated to understanding\, optimizing\, and teaching others how to use social media effectively. Jamie has presented to hundreds of professionals on social media and marketing strategy\, has spent thousands of hours honing his skills\, and has spent over $100\,000 on social media ads figuring out what works and doesn't work. He has worked with over 100 local businesses from restaruants\, health and fitness centers\, racing event companies\, real estate agents\, and photographers to non-profits and local chambers of commerce. Jamie is passionate about social media\, helping others\, and the community.
X-ALT-DESC;FMTTYPE=text/html:<p>Pinterest is a great platform for small businesses for a number of reasons. First\, it has a huge audience of active users - over 150 million people use Pinterest every month. This means that there is a large potential customer base for businesses to reach. Additionally\, Pinterest is a highly visual platform\, which makes it ideal for businesses in the design\, fashion\, or home decor industries. And finally\, Pinterest is a very search-friendly platform\, which means that businesses can easily get their products and services in front of interested customers. In short\, Pinterest offers small businesses a great opportunity to reach a large audience and promote their products and services.</p>\n\n<p>In this session\, we will be doing a deep dive into how to be successful on Pinterest. We will discuss why Pinterest is a great platform for organic growth. We will go over the different types of pins you can create and where they can be found. We will also learn about the people that are using Pinterest and how to find your audience using SEO. Lastly\, we will learn exactly how to create successful Pinterest content.</p>\n\n<p><em><strong>This is an advanced marketing course. Folks who join this webinar should already have a Pinterest business page created\, and have an understanding of how to post to the platform.&nbsp\;</strong></em></p>\n\n<p><strong>About the instructor:</strong>&nbsp\;Jamie Cocco is the founder of Empowered Social Media. He is the self-proclaimed social media nerd who has spent the last 7 years of his life dedicated to understanding\, optimizing\, and teaching others how to use social media effectively. Jamie has presented to hundreds of professionals on social media and marketing strategy\, has spent thousands of hours honing his skills\, and has spent over $100\,000 on social media ads figuring out what works and doesn&#39\;t work. He has worked with over 100 local businesses from restaruants\, health and fitness centers\, racing event companies\, real estate agents\, and photographers to non-profits and local chambers of commerce. Jamie is passionate about social media\, helping others\, and the community.</p>\n
LOCATION:Zoom.
UID:e.2083.13981
SEQUENCE:3
DTSTAMP:20260421T202535Z
URL:https://business.cmschamber.org/events/details/marketing-your-business-on-pinterest-13981
END:VEVENT

END:VCALENDAR
