BEGIN:VCALENDAR
VERSION:2.0
PRODID:-//ChamberMaster//Event Calendar 2.0//EN
METHOD:PUBLISH
X-PUBLISHED-TTL:P3D
REFRESH-INTERVAL:P3D
CALSCALE:GREGORIAN
BEGIN:VEVENT
DTSTART:20220711T160000Z
DTEND:20220711T170000Z
X-MICROSOFT-CDO-ALLDAYEVENT:FALSE
SUMMARY:Marketing Your Business On TikTok
DESCRIPTION:TikTok offers a unique opportunity for small businesses to reach a large audience with creative content. The platform is easy to use and offers a variety of tools for creating engaging videos. TikTok also has a built-in community of users who are passionate about supporting small businesses. In addition\, the platform provides valuable analytics that can help businesses track their progress and adjust their strategies. Overall\, TikTok is an excellent option for small businesses looking to reach a wide audience with creative content.\n\nIn this session\, we discuss advanced marketing tactics for TikTok. We will teach you a way to never run out of content ideas and establish yourself as an expert in your field on TikTok. We will also go over best practices and techniques for success.\n\nThis is an advanced marketing course. Folks who attend this class should already have a TikTok account and know how to post on this platform. \n\nAbout the instructor: Jamie Cocco is the founder of Empowered Social Media. He is the self-proclaimed social media nerd who has spent the last 7 years of his life dedicated to understanding\, optimizing\, and teaching others how to use social media effectively. Jamie has presented to hundreds of professionals on social media and marketing strategy\, has spent thousands of hours honing his skills\, and has spent over $100\,000 on social media ads figuring out what works and doesn't work. He has worked with over 100 local businesses from restaruants\, health and fitness centers\, racing event companies\, real estate agents\, and photographers to non-profits and local chambers of commerce. Jamie is passionate about social media\, helping others\, and the community.
X-ALT-DESC;FMTTYPE=text/html:<p>TikTok offers a unique opportunity for small businesses to reach a large audience with creative content. The platform is easy to use and offers a variety of tools for creating engaging videos. TikTok also has a built-in community of users who are passionate about supporting small businesses. In addition\, the platform provides valuable analytics that can help businesses track their progress and adjust their strategies. Overall\, TikTok is an excellent option for small businesses looking to reach a wide audience with creative content.</p>\n\n<p>In this session\, we discuss advanced marketing tactics for TikTok. We will teach you a way to never run out of content ideas and establish yourself as an expert in your field on TikTok. We will also go over best practices and techniques for success.</p>\n\n<p><em><strong>This is an advanced marketing course. Folks who attend this class should already have a TikTok account and know how to post on this platform.&nbsp\;</strong></em></p>\n\n<p><strong>About the instructor:</strong>&nbsp\;Jamie Cocco is the founder of Empowered Social Media. He is the self-proclaimed social media nerd who has spent the last 7 years of his life dedicated to understanding\, optimizing\, and teaching others how to use social media effectively. Jamie has presented to hundreds of professionals on social media and marketing strategy\, has spent thousands of hours honing his skills\, and has spent over $100\,000 on social media ads figuring out what works and doesn&#39\;t work. He has worked with over 100 local businesses from restaruants\, health and fitness centers\, racing event companies\, real estate agents\, and photographers to non-profits and local chambers of commerce. Jamie is passionate about social media\, helping others\, and the community.</p>\n
LOCATION:Zoom.
UID:e.2083.13978
SEQUENCE:3
DTSTAMP:20260421T202831Z
URL:https://business.cmschamber.org/events/details/marketing-your-business-on-tiktok-13978
END:VEVENT

END:VCALENDAR
