BEGIN:VCALENDAR
VERSION:2.0
PRODID:-//ChamberMaster//Event Calendar 2.0//EN
METHOD:PUBLISH
X-PUBLISHED-TTL:P3D
REFRESH-INTERVAL:P3D
CALSCALE:GREGORIAN
BEGIN:VEVENT
DTSTART:20231117T150000Z
DTEND:20231117T180000Z
X-MICROSOFT-CDO-ALLDAYEVENT:FALSE
SUMMARY:MassHire Annual Fall Job Fair Honoring Our Veterans (Free & Open to All)
DESCRIPTION:If you're looking for FT\, PT\, or seasonal jobs in the Worcester area\, plan to attend MassHire's annual Fall job fair honoring our veterans. It's free and open to the public--all job seekers welcome. November 17 at the American Legion Vernon HIll\, 267 Providence Street\, Worcester. 10AM - 1PM.
X-ALT-DESC;FMTTYPE=text/html:If you&#39\;re looking for FT\, PT\, or seasonal jobs in the Worcester area\, plan to attend MassHire&#39\;s annual Fall job fair honoring our veterans. It&#39\;s free and open to the public--all job seekers welcome. November 17 at the American Legion Vernon HIll\, 267 Providence Street\, Worcester. 10AM - 1PM.
LOCATION:American Legion Vernon Hill\, 267 Providence Street\, Worcester.
UID:e.2083.16671
SEQUENCE:3
DTSTAMP:20260420T154539Z
URL:https://business.cmschamber.org/events/details/masshire-annual-fall-job-fair-honoring-our-veterans-free-open-to-all-16671
END:VEVENT

END:VCALENDAR
