BEGIN:VCALENDAR
VERSION:2.0
PRODID:-//ChamberMaster//Event Calendar 2.0//EN
METHOD:PUBLISH
X-PUBLISHED-TTL:P3D
REFRESH-INTERVAL:P3D
CALSCALE:GREGORIAN
BEGIN:VEVENT
DTSTART:20231026T140000Z
DTEND:20231026T160000Z
X-MICROSOFT-CDO-ALLDAYEVENT:FALSE
SUMMARY:MassHire Central Career Centers (Southbridge) Job Training and Career Development Fair
DESCRIPTION:Meet employers hiring now and discover more about free and low-cost career development training available through MassHire. Featuring diverse businesses hiring now--jobs in healthcare\, manufacturing\, admin\, transportation\, and more. Scan bar code for more info and to register.
X-ALT-DESC;FMTTYPE=text/html:Meet employers hiring now and discover more about free and low-cost career development training available through MassHire. Featuring diverse businesses hiring now--jobs in healthcare\, manufacturing\, admin\, transportation\, and more. Scan bar code for more info and to register.&nbsp\;
LOCATION:14 Mechanic Street\, Suite 330\, Southbridge\, MA
UID:e.2083.16670
SEQUENCE:3
DTSTAMP:20260420T171404Z
URL:https://business.cmschamber.org/events/details/masshire-central-career-centers-southbridge-job-training-and-career-development-fair-16670
END:VEVENT

END:VCALENDAR
