BEGIN:VCALENDAR
VERSION:2.0
PRODID:-//ChamberMaster//Event Calendar 2.0//EN
METHOD:PUBLISH
X-PUBLISHED-TTL:P3D
REFRESH-INTERVAL:P3D
CALSCALE:GREGORIAN
BEGIN:VEVENT
DTSTART:20200901T140000Z
DTEND:20200901T150000Z
X-MICROSOFT-CDO-ALLDAYEVENT:FALSE
SUMMARY:MASTERCLASS: 3 Secrets Of LEGENDARY Entrepreneurs!
DESCRIPTION:If the COVID world finds you struggling to grow sales and concerned about the future OR if you are fortunate to have too much business and overwhelmed playing catch-up\, this Masterclass is just what the doctor ordered.  Over the years\, what I've found is that most entrepreneurs are stranded and isolated\, don't have a clear vision\, are consumed by the day-to-day activities of their business\, and don't have the right mindset\, skillset\, or team to scale their company.  COVID magnifies this.   During this Masterclass\, I will share 3 secrets that consistently propel the world's greatest entrepreneurs to victory:\n\n\n\nSecret #1  You can consistently have happiness in your personal life and excitement in your entrepreneurial life when you commit to this every day.   WARNING\, this is addictive!\n\n\n\nSecret #2  By making this one investment in your business\, you will discover the secret used by the world's greatest business leaders.\n\n\n\nSecret #3  The TOP 1% of all entrepreneurs use this simple\, repeatable\, sustainable formula to consistently dominate their market\, year-after-year.\n\n\n\nAfter starting and building several companies over the past 30 years\, I've learned a thing or 2 about entrepreneurship.  I believe most entrepreneurs dream of a successful & thriving business\, seek control over their financial future\, and want the freedom to pursue their passions.   Unfortunately\, most entrepreneurs incorrectly assume their challenges are caused by the competitive landscape\, a lack of capital\, the economy\, their management team\, bad luck\, or their industry.   Join me and other business leaders as I unveil 3 SAVAGE SECRETS of entrepreneurial success!
X-ALT-DESC;FMTTYPE=text/html:<span style="color:black"><span style="font-family:calibri"><span style="font-size:13.2pt">If the COVID world finds you struggling to grow sales and concerned about the future </span></span></span><u><strong><span style="color:black"><span style="font-family:calibri"><span style="font-size:13.2pt">OR</span></span></span></strong></u><span style="color:black"><span style="font-family:calibri"><span style="font-size:13.2pt"> if you are fortunate to have too much business and overwhelmed playing catch-up\, this Masterclass is just what the doctor ordered.&nbsp\; Over the years\, what I&rsquo\;ve found is that most entrepreneurs are stranded and isolated\, don&rsquo\;t have a clear vision\, are consumed by the day-to-day activities of their business\, and don&rsquo\;t have the right mindset\, skillset\, or team to scale their company.&nbsp\; COVID magnifies this.&nbsp\;&nbsp\; During this Masterclass\, I will share 3 secrets that consistently propel the world&#39\;s greatest entrepreneurs to victory:</span></span></span><br />\n<br />\n<u><strong><span style="color:black"><span style="font-family:calibri"><span style="font-size:14.0pt">Secret #1</span></span></span></strong></u>&nbsp\; <span style="color:black"><span style="font-family:calibri"><span style="font-size:14.0pt">You can consistently have happiness in your personal life and excitement in your entrepreneurial life when you commit to this every day.&nbsp\;&nbsp\; WARNING\, this is addictive!</span></span></span><br />\n<br />\n<u><strong><span style="color:black"><span style="font-family:calibri"><span style="font-size:14.0pt">Secret #2</span></span></span></strong></u>&nbsp\; <span style="color:black"><span style="font-family:calibri"><span style="font-size:14.0pt">By making this one investment in your business\, you will discover the secret used by the world&rsquo\;s greatest business leaders.</span></span></span><br />\n<br />\n<u><strong><span style="color:black"><span style="font-family:calibri"><span style="font-size:14.0pt">Secret #3</span></span></span></strong></u>&nbsp\; <span style="color:black"><span style="font-family:calibri"><span style="font-size:14.0pt">The TOP 1% of all entrepreneurs use this simple\, repeatable\, sustainable formula to consistently dominate their market\, year-after-year.</span></span></span><br />\n<br />\n<span style="color:black"><span style="font-family:calibri"><span style="font-size:13.2pt">After starting and building several companies over the past 30 years\, I&rsquo\;ve learned a thing or 2 about entrepreneurship.&nbsp\; I believe most entrepreneurs dream of a successful &amp\; thriving business\, seek control over their financial future\, and want the freedom to pursue their passions.&nbsp\;&nbsp\; Unfortunately\, most entrepreneurs incorrectly assume their challenges are caused by the competitive landscape\, a lack of capital\, the economy\, their management team\, bad luck\, or their industry.&nbsp\;&nbsp\; Join me and other business leaders as I unveil </span></span></span><u><strong><span style="color:black"><span style="font-family:calibri"><span style="font-size:13.2pt">3 SAVAGE SECRETS</span></span></span></strong></u> <span style="color:black"><span style="font-family:calibri"><span style="font-size:13.2pt">of entrepreneurial success!</span></span></span>
LOCATION:LIVE ZOOM! Pre-Registration Is Required https://us02web.zoom.us/meeting/register/tZUkf-iqrTwsH9PVT8GH_wbpBVk1e-KLuUoV
UID:e.2083.12214
SEQUENCE:3
DTSTAMP:20260423T035532Z
URL:https://business.cmschamber.org/events/details/masterclass-3-secrets-of-legendary-entrepreneurs-12214
END:VEVENT

END:VCALENDAR
