BEGIN:VCALENDAR
VERSION:2.0
PRODID:-//ChamberMaster//Event Calendar 2.0//EN
METHOD:PUBLISH
X-PUBLISHED-TTL:P3D
REFRESH-INTERVAL:P3D
CALSCALE:GREGORIAN
BEGIN:VEVENT
DTSTART:20230330T170000Z
DTEND:20230330T180000Z
X-MICROSOFT-CDO-ALLDAYEVENT:FALSE
SUMMARY:Masterclass: From Pitch to Close - mindset and behavior strategies of winning salespeople
DESCRIPTION:If you're in sales and want to be a consistently top-producing rep but often find yourself riding the rollercoaster of unpredictable results\, join Kelly Moertle and me on March 30th  for our complimentary Masterclass\, where you will learn about the mindsets and behaviors of winning salespeople.\n\n\n\n?? You'll learn winning behaviors for each stage of the sales cycle and what this means to YOU\n\n?? You'll gain valuable insights that help you focus attention on what matters most to you NOW\n\n?? You'll learn how a shift in your mindset pays BIG dividends on your results\n\n\n\nJoin us by registering here:  https://us02web.zoom.us/meeting/register/tZYqdOyrqzwqGdx_72qbt7N5N9mdpRpoZStv\n\nLearn more about the presenters:\n\nhttps://www.linkedin.com/in/chrisspafford/\n\nhttps://www.linkedin.com/in/kellymoertle/
X-ALT-DESC;FMTTYPE=text/html:<span style="color:black"><span style="font-family:arial\,sans-serif"><span style="font-size:12.0pt">If you&#39\;re in sales and want to be a consistently top-producing rep but often find yourself riding the rollercoaster of unpredictable results\, join&nbsp\;Kelly Moertle&nbsp\;and me on March 30<sup>th</sup> &nbsp\;for our complimentary Masterclass\, where you will learn about the mindsets and behaviors of winning salespeople.</span></span></span><br />\n<br />\n<span style="color:black"><span style="font-family:segoe ui emoji\,sans-serif"><span style="font-size:12.0pt">??</span></span></span><span style="color:black"><span style="font-family:arial\,sans-serif"><span style="font-size:12.0pt"> You&#39\;ll learn winning behaviors for each stage of the sales cycle and what this means to YOU</span></span></span><br />\n<span style="color:black"><span style="font-family:segoe ui emoji\,sans-serif"><span style="font-size:12.0pt">??</span></span></span><span style="color:black"><span style="font-family:arial\,sans-serif"><span style="font-size:12.0pt"> You&#39\;ll gain valuable insights that help you focus attention on what matters most to you NOW</span></span></span><br />\n<span style="color:black"><span style="font-family:segoe ui emoji\,sans-serif"><span style="font-size:12.0pt">??</span></span></span><span style="color:black"><span style="font-family:arial\,sans-serif"><span style="font-size:12.0pt"> You&#39\;ll learn how a shift in your mindset pays BIG dividends on your results</span></span></span><br />\n<br />\n<span style="color:black"><span style="font-family:arial\,sans-serif"><span style="font-size:12.0pt">Join us by registering here:&nbsp\;&nbsp\;</span></span></span><a href="https://us02web.zoom.us/meeting/register/tZYqdOyrqzwqGdx_72qbt7N5N9mdpRpoZStv"><span style="color:#1A60AC"><span style="font-family:arial\,sans-serif"><span style="font-size:12.0pt">https://us02web.zoom.us/meeting/register/tZYqdOyrqzwqGdx_72qbt7N5N9mdpRpoZStv</span></span></span></a><br />\n<span style="font-family:arial\,sans-serif"><span style="font-size:12.0pt">Learn more about the presenters:</span></span><br />\n<a href="https://www.linkedin.com/in/chrisspafford/"><span style="font-family:arial\,sans-serif"><span style="font-size:12.0pt">https://www.linkedin.com/in/chrisspafford/</span></span></a><br />\n<a href="https://www.linkedin.com/in/kellymoertle/"><span style="font-family:arial\,sans-serif"><span style="font-size:12.0pt">https://www.linkedin.com/in/kellymoertle/</span></span></a>
LOCATION:Online Event. Register: https://us02web.zoom.us/meeting/register/tZYqdOyrqzwqGdx_72qbt7N5N9mdpRpoZStv
UID:e.2083.15474
SEQUENCE:3
DTSTAMP:20260421T060150Z
URL:https://business.cmschamber.org/events/details/masterclass-from-pitch-to-close-mindset-and-behavior-strategies-of-winning-salespeople-15474
END:VEVENT

END:VCALENDAR
