BEGIN:VCALENDAR
VERSION:2.0
PRODID:-//ChamberMaster//Event Calendar 2.0//EN
METHOD:PUBLISH
X-PUBLISHED-TTL:P3D
REFRESH-INTERVAL:P3D
CALSCALE:GREGORIAN
BEGIN:VEVENT
DTSTART:20230422T150000Z
DTEND:20230422T160000Z
X-MICROSOFT-CDO-ALLDAYEVENT:FALSE
SUMMARY:Mastermind Course- Put Your Dream to the Test
DESCRIPTION:We are about to end the first quarter of 2023\; what are you doing to prepare for the rest of 2023? I want you to be able to pave the way for your next level and be equipped with the necessary skills. Join me in this mastermind group. \n\nTopics Covered:\n\n\n	The Reality Question (Am I Depending on Factors Within My Control to Achieve My Dream?)\n	The Pathway Question (Do I Have a Strategy to Reach My Dream?)\n	The Ownership Question (Is My Dream Really My Dream?)\n	The Cost Question Am (I Willing to Pay the Price for My Dream?)\n	The Fulfillment Question (Does Working Toward My Dream Bring Satisfaction?)
X-ALT-DESC;FMTTYPE=text/html:<span style="font-size:14px"><span style="font-family:arial\,helvetica\,sans-serif"><span style="color:rgb(26\, 26\, 26)">We are about to end the first quarter of 2023\; what are you doing to prepare for the rest of 2023? I want you to be able to pave the way for your next level and be equipped with the necessary skills. Join me in this mastermind group.&nbsp\;</span></span></span>\n<div>\n<p><span style="font-size:14px"><span style="font-family:arial\,helvetica\,sans-serif">Topics Covered:</span></span></p>\n\n<ul>\n	<li><span style="font-size:14px"><span style="font-family:arial\,helvetica\,sans-serif">The Reality Question (Am I Depending on Factors Within My Control to Achieve My Dream?)</span></span></li>\n	<li><span style="font-size:14px"><span style="font-family:arial\,helvetica\,sans-serif">The Pathway Question (Do I Have a Strategy to Reach My Dream?)</span></span></li>\n	<li><span style="font-size:14px"><span style="font-family:arial\,helvetica\,sans-serif">The Ownership Question (Is My Dream Really My Dream?)</span></span></li>\n	<li><span style="font-size:14px"><span style="font-family:arial\,helvetica\,sans-serif">The Cost Question Am (I Willing to Pay the Price for My Dream?)</span></span></li>\n	<li><span style="font-size:14px"><span style="font-family:arial\,helvetica\,sans-serif">The Fulfillment Question (Does Working Toward My Dream Bring Satisfaction?)</span></span></li>\n</ul>\n</div>\n
LOCATION:Zoom
UID:e.2083.15480
SEQUENCE:3
DTSTAMP:20260421T055609Z
URL:https://business.cmschamber.org/events/details/mastermind-course-put-your-dream-to-the-test-15480
END:VEVENT

END:VCALENDAR
