BEGIN:VCALENDAR
VERSION:2.0
PRODID:-//ChamberMaster//Event Calendar 2.0//EN
METHOD:PUBLISH
X-PUBLISHED-TTL:P3D
REFRESH-INTERVAL:P3D
CALSCALE:GREGORIAN
BEGIN:VEVENT
DTSTART:20230922T210000Z
DTEND:20230923T010000Z
X-MICROSOFT-CDO-ALLDAYEVENT:FALSE
SUMMARY:Mid-Autumm and Moon Festival
DESCRIPTION:The Mid-Autumm and Moon Festival are traditional celebrations throughout Asia. The Southeast Asian Coalition of Central MA has been putting on this traditional fun-filled event annually for over 20 years. We invite you and your family to join us. Bring your lanterns if you have them. If not\, we will have plenty at the lantern decoration table. There will be music\, storytelling\, face painting\, and lots of cotton candy and lots of MOONCAKES! The event will conclude with a lantern parade.
X-ALT-DESC;FMTTYPE=text/html:The Mid-Autumm and Moon Festival are traditional celebrations throughout Asia. The Southeast Asian Coalition of Central MA has been putting on this traditional fun-filled event annually for over 20 years.&nbsp\;We invite you and your family to join us. Bring your lanterns if you have them. If not\, we will have plenty at the lantern decoration table. There will be music\, storytelling\, face painting\, and lots of cotton candy and lots of MOONCAKES! The event will conclude with a lantern parade.&nbsp\;<br />\n<br />\n<br />\n&nbsp\;
LOCATION:Boys and Girls Club 65 Boys and Girls Club Way Worcester MA 01610
UID:e.2083.16445
SEQUENCE:3
DTSTAMP:20260420T210319Z
URL:https://business.cmschamber.org/events/details/mid-autumm-and-moon-festival-16445
END:VEVENT

END:VCALENDAR
