BEGIN:VCALENDAR
VERSION:2.0
PRODID:-//ChamberMaster//Event Calendar 2.0//EN
METHOD:PUBLISH
X-PUBLISHED-TTL:P3D
REFRESH-INTERVAL:P3D
CALSCALE:GREGORIAN
BEGIN:VEVENT
DTSTART:20231011T140000Z
DTEND:20231011T160000Z
X-MICROSOFT-CDO-ALLDAYEVENT:FALSE
SUMMARY:Milford Job Fair (Presented by MassHire Central Region and Milford Youth Center)
DESCRIPTION:More than two dozen companies from diverse industries hiring now for FT\, PT\, and seasonal jobs. Scan the bar code for more info and to register.
X-ALT-DESC;FMTTYPE=text/html:More than two dozen companies from diverse industries hiring now for FT\, PT\, and seasonal jobs. Scan the bar code for more info and to register.&nbsp\;
LOCATION:24 Pearl Street\, Milford\, MA
UID:e.2083.16668
SEQUENCE:3
DTSTAMP:20260420T171511Z
URL:https://business.cmschamber.org/events/details/milford-job-fair-presented-by-masshire-central-region-and-milford-youth-center-16668
END:VEVENT

END:VCALENDAR
