BEGIN:VCALENDAR
VERSION:2.0
PRODID:-//ChamberMaster//Event Calendar 2.0//EN
METHOD:PUBLISH
X-PUBLISHED-TTL:P3D
REFRESH-INTERVAL:P3D
CALSCALE:GREGORIAN
BEGIN:VEVENT
DTSTART:20220715T123000Z
DTEND:20220715T200000Z
X-MICROSOFT-CDO-ALLDAYEVENT:FALSE
SUMMARY:Mindfulness as a Catalyst for Equity and Collective Healing
DESCRIPTION:Looking for a Reset Button?\n\nParticipants in Mindfulness as a Catalyst for Equity and Collective Healing** training will learn mindfulness\, racial literacy\, cultural competency\, and relational healing skills to become agents of change. (32.5 CE Credits Offered Upon Completion)\n \n\n-Compassion for self and others\n\n-Unlearn unconscious biases \n\n-Learn to sit with discomfort\n\n-Identify steps for positive change\n\n\n\n**Mindfulness as a Catalyst for Equity and Collective Healing is a 5-day\, 7.5-hours per day training program. There is no session scheduled on July 1 in observance of the Independence Day weekend.
X-ALT-DESC;FMTTYPE=text/html:<span style="color:rgb(34\, 34\, 34)\; font-family:arial\,helvetica\,sans-serif\; font-size:small"><strong>Looking for a Reset Button?</strong><br />\nParticipants in <em>Mindfulness as a Catalyst for Equity and Collective Healing</em>** training will learn mindfulness\, racial literacy\, cultural competency\, and relational healing skills to become agents of change.&nbsp\;</span>(32.5 CE Credits Offered Upon Completion)\n<div>&nbsp\;</div>\n\n<div>-Compassion for self and others</div>\n\n<div>-Unlearn unconscious biases&nbsp\;</div>\n\n<div>-Learn to sit with discomfort</div>\n\n<div>-Identify&nbsp\;steps for positive change</div>\n\n<div><br />\n<em>**Mindfulness as a Catalyst for Equity and Collective Healing</em> is a 5-day\, 7.5-hours per day training program. There is no session scheduled on July 1 in observance of the Independence Day weekend.</div>\n\n<div>&nbsp\;</div>\n
LOCATION:The HeartWell Institute 1015 Pleasant St. Worcester\, MA 01602 (gps address: 10 Biltmore Road) On-site parking WRTA bus stop in front
UID:e.2083.13889
SEQUENCE:3
DTSTAMP:20260421T185341Z
URL:https://business.cmschamber.org/events/details/mindfulness-as-a-catalyst-for-equity-and-collective-healing-07-15-2022-13889
END:VEVENT

END:VCALENDAR
