BEGIN:VCALENDAR
VERSION:2.0
PRODID:-//ChamberMaster//Event Calendar 2.0//EN
METHOD:PUBLISH
X-PUBLISHED-TTL:P3D
REFRESH-INTERVAL:P3D
CALSCALE:GREGORIAN
BEGIN:VEVENT
DTSTART:20221118T133000Z
DTEND:20221118T210000Z
X-MICROSOFT-CDO-ALLDAYEVENT:FALSE
SUMMARY:Mindfulness as a Catalyst for Equity and Collective Healing
DESCRIPTION:About the Session\n\n\n\nMindfulness as a Catalyst for Equity and Collective Healing strives to inspire individuals to become agents for social change by using trauma-informed relational mindfulness practices infused by frameworks of psychosocial and cultural competency. The foundational pillars of this program are grounded in fostering trust\, acceptance\, and compassion to facilitate a transformational journey with life-long personal\, interpersonal\, social\, and global impact.\n\nThis program is ideal for individuals who appreciate the layers of conditioning in our current societal dynamics\, and who are willing to explore the role they play in such dynamics and the possibilities for growth\, choice\, and change. This process requires a commitment to self-reflection and a willingness to be vulnerable while being held in a non-judgmental\, safe\, and compassionate environment. \n\n\n\nProgram Type\n\n\n\nExperiential program for small or large groups\, with systematic training on mindfulness and meditation practices\, interactive exercises\, and didactic psycho-educational components in cultural and racial literacy as well as social-emotional learning\, stress reduction and resilience. This program includes a silent retreat experience halfway into the program to deepen the practices.\n\n\n\nWalk Away With:\n\n\n\n\n	\n	How to use mindfulness in your every day life\n	\n	\n	Practice in nurturing your relationship with yourself\n	\n	\n	The role you play living in a racialized system\n	\n	\n	How to approach your social conditioning with compassion\n	\n	\n	Skills to move towards cultural proficiency\n	\n	\n	Deep listening skills\, mindful communication\, and authentic relationships\n	\n	\n	The role you play in creating positive change in this world?\n	\n	\n	4 mindfulness audio files for long-term practice\n	\n	\n	Training workbook to keep for continued reference\n	\n\n\n\n\nCE Credit Guidelines\n\n\n\nThe HeartWell Institute is approved for CEU credits from \n\n \n\nAPA\n\nNBCC ACEP\n\nNASW - MA Chapter\n\nMA-DESE \n\n\n\nThis program offers 32.5 CEU credits. For more information\, please visit here or contact us.
X-ALT-DESC;FMTTYPE=text/html:<div style="background:transparent\; border:0px\; padding:0px">\n<h2><strong><span style="font-family:futura-lt-w01-book\,futura-lt-w05-book\,sans-serif"><span style="color:rgb(94\, 77\, 143)">About the Session</span></span></strong></h2>\n</div>\n\n<div style="background:transparent\; border:0px\; padding:0px">\n<p><span style="color:rgb(123\, 104\, 163)"><span style="font-family:futura-lt-w01-book\,futura-lt-w05-book\,sans-serif">Mind</span></span><span style="color:rgb(123\, 104\, 163)\; font-family:futura-lt-w01-book\,futura-lt-w05-book\,sans-serif">fulness as a Catalyst for Equity and Collective Healing strives to inspire individuals to become agents for social change by using trauma-informed relational mindfulness practices infused by frameworks of psychosocial and cultural competency. The foundational pillars of this program are grounded in fostering trust\, acceptance\, and compassion to facilitate a transformational journey with life-long personal\, interpersonal\, social\, and global impact.</span></p>\n\n<p><span style="color:rgb(123\, 104\, 163)\; font-family:futura-lt-w01-book\,futura-lt-w05-book\,sans-serif">This program is ideal for individuals who appreciate the layers of conditioning in our current societal dynamics\, and who are willing to explore the role they play in such dynamics and the possibilities for growth\, choice\, and change. This process requires a commitment to self-reflection and a willingness to be vulnerable while being held in a non-judgmental\, safe\, and compassionate environment.&nbsp\;</span></p>\n</div>\n\n<div style="background:transparent\; border:0px\; padding:0px">\n<h2><strong><span style="font-family:futura-lt-w01-book\,futura-lt-w05-book\,sans-serif"><span style="color:rgb(94\, 77\, 143)">Program Type</span></span></strong></h2>\n</div>\n\n<div style="background:transparent\; border:0px\; padding:0px">\n<p><span style="color:rgb(123\, 104\, 163)"><span style="font-family:futura-lt-w01-book\,futura-lt-w05-book\,sans-serif">Experiential program for small or large groups\, with systematic training on mindfulness and meditation practices\, interactive exercises\, and didactic psycho-educational components in cultural and racial literacy as well as social-emotional learning\, stress reduction and resilience. This program includes a silent retreat experience halfway into the program to deepen the practices.</span></span></p>\n</div>\n\n<div style="background:transparent\; border:0px\; padding:0px">\n<h2><strong><span style="font-family:futura-lt-w01-book\,futura-lt-w05-book\,sans-serif"><span style="color:rgb(94\, 77\, 143)">Walk Away With:</span></span></strong></h2>\n</div>\n\n<div style="background:transparent\; border:0px\; padding:0px">\n<ul>\n	<li>\n	<p>How to use mindfulness in your every day life</p>\n	</li>\n	<li>\n	<p>Practice in nurturing your relationship with yourself</p>\n	</li>\n	<li>\n	<p>The role you play living in a racialized system</p>\n	</li>\n	<li>\n	<p>How to approach your social conditioning with compassion</p>\n	</li>\n	<li>\n	<p>Skills to move towards cultural proficiency</p>\n	</li>\n	<li>\n	<p>Deep listening skills\, mindful communication\, and authentic relationships</p>\n	</li>\n	<li>\n	<p>The role you play in creating positive change in this world?</p>\n	</li>\n	<li>\n	<p>4 mindfulness audio files for long-term practice</p>\n	</li>\n	<li>\n	<p>Training workbook to keep for continued reference</p>\n	</li>\n</ul>\n</div>\n\n<div style="background:transparent\; border:0px\; padding:0px">\n<h2><span style="color:rgb(94\, 77\, 143)"><span style="font-family:futura-lt-w01-book\,futura-lt-w05-book\,sans-serif"><strong>CE Credit Guidelines</strong></span></span></h2>\n</div>\n\n<div style="background:transparent\; border:0px\; padding:0px">\n<p style="text-align:center"><span style="color:rgb(123\, 104\, 163)"><span style="font-family:futura-lt-w01-book\,futura-lt-w05-book\,sans-serif">The HeartWell Institute is approved for CEU credits from&nbsp\;</span></span><br />\n&nbsp\;</p>\n\n<p style="text-align:center"><span style="color:rgb(123\, 104\, 163)"><span style="font-family:futura-lt-w01-book\,futura-lt-w05-book\,sans-serif">APA<br />\nNBCC ACEP<br />\nNASW - MA Chapter<br />\nMA-DESE&nbsp\;<br />\n<br />\nThis program offers 32.5 CEU credits. For more information\, please visit&nbsp\;<u><a href="https://www.heartwellinstitute.org/continuing-education-approvals" style="margin: 0px\; padding: 0px\; border: 0px\; outline: 0px\; vertical-align: baseline\; background: transparent\; cursor: pointer\; text-decoration-line: none\; color: inherit\;" target="_blank">here</a></u>&nbsp\;or&nbsp\;<a href="mailto:info@heartwellinstitute.org?subject=I%20have%20a%20question%20about%20CEU%20credits" style="margin: 0px\; padding: 0px\; border: 0px\; outline: 0px\; vertical-align: baseline\; background: transparent\; cursor: pointer\; text-decoration-line: none\; color: inherit\;" target="_self">contact us</a>.&nbsp\;</span></span></p>\n</div>\n
LOCATION:The HeartWell Institute 1015 Pleasant St\, Worcester\, MA 01602 For parking: enter 10 Biltmore Road into your GPS
UID:e.2083.14000
SEQUENCE:3
DTSTAMP:20260421T130045Z
URL:https://business.cmschamber.org/events/details/mindfulness-as-a-catalyst-for-equity-and-collective-healing-10-28-2022-14000
END:VEVENT

END:VCALENDAR
