BEGIN:VCALENDAR
VERSION:2.0
PRODID:-//ChamberMaster//Event Calendar 2.0//EN
METHOD:PUBLISH
X-PUBLISHED-TTL:P3D
REFRESH-INTERVAL:P3D
CALSCALE:GREGORIAN
BEGIN:VEVENT
DTSTART:20230301T170000Z
DTEND:20230301T180000Z
X-MICROSOFT-CDO-ALLDAYEVENT:FALSE
SUMMARY:Monetizing Your Gifts
DESCRIPTION:Maybe you have a talent or passion that you are considering turning into a side hustle or full fledged business. In this session we will walk through the things you will want to consider before getting started. In this workshop we will: \n\n\n	Help you brainstorm your idea\n	Uncover your natural gifts \n	Pull your personal goals to the forefront \n	Help you understand how to choose a business name\, and so much more! \n\n\nThere are things to consider before launching\, and we are here to help you do the necessary groundwork to set yourself up for success!
X-ALT-DESC;FMTTYPE=text/html:<p>Maybe you have a talent or passion that you are considering turning into a side hustle or full fledged business. In this session we will walk through the things you will want to consider before getting started. In this workshop we will:&nbsp\;</p>\n\n<ul>\n	<li>Help you brainstorm your idea</li>\n	<li>Uncover your natural gifts&nbsp\;</li>\n	<li>Pull your personal goals to the forefront&nbsp\;</li>\n	<li>Help you understand how to choose a business name\, and so much more!&nbsp\;</li>\n</ul>\n\n<p>There are things to consider before launching\, and we are here to help you do the necessary groundwork to set yourself up for success!&nbsp\;</p>\n
LOCATION:Zoom
UID:e.2083.15440
SEQUENCE:3
DTSTAMP:20260421T055601Z
URL:https://business.cmschamber.org/events/details/monetizing-your-gifts-15440
END:VEVENT

END:VCALENDAR
