BEGIN:VCALENDAR
VERSION:2.0
PRODID:-//ChamberMaster//Event Calendar 2.0//EN
METHOD:PUBLISH
X-PUBLISHED-TTL:P3D
REFRESH-INTERVAL:P3D
CALSCALE:GREGORIAN
BEGIN:VEVENT
DTSTART:20230801T220000Z
DTEND:20230801T230000Z
X-MICROSOFT-CDO-ALLDAYEVENT:FALSE
SUMMARY:Monthly Mindfulness at The HeartWell Institute
DESCRIPTION:Make some time for yourself! Join our instructors on the first Tuesday of each month for a FREE mindfulness practice at The HeartWell Institute.\n\n\n\nThese events are free and open to the public\, though donations to help fund scholarships for The HeartWell's upcoming programs are welcome.
X-ALT-DESC;FMTTYPE=text/html:<span style="color:rgba(0\, 0\, 0\, 0.9)\; font-family:-apple-system\,system-ui\,blinkmacsystemfont\,segoe ui\,roboto\,helvetica neue\,fira sans\,ubuntu\,oxygen\,oxygen sans\,cantarell\,droid sans\,apple color emoji\,segoe ui emoji\,segoe ui emoji\,segoe ui symbol\,lucida grande\,helvetica\,arial\,sans-serif\; font-size:14px">Make some time for yourself! Join our instructors on the first Tuesday of each month for a FREE mindfulness practice at The HeartWell Institute.</span><br />\n<br />\n<span style="color:rgba(0\, 0\, 0\, 0.9)\; font-family:-apple-system\,system-ui\,blinkmacsystemfont\,segoe ui\,roboto\,helvetica neue\,fira sans\,ubuntu\,oxygen\,oxygen sans\,cantarell\,droid sans\,apple color emoji\,segoe ui emoji\,segoe ui emoji\,segoe ui symbol\,lucida grande\,helvetica\,arial\,sans-serif\; font-size:14px">These events are free and open to the public\, though donations to help fund scholarships for The HeartWell&#39\;s upcoming programs are welcome.</span>
LOCATION:The HeartWell Institute 1015 Pleasant St. Worcester\, MA 01602 For parking: Enter10 Biltmore Rd.\, Worcester into your GPS
UID:e.2083.14036
SEQUENCE:3
DTSTAMP:20260420T225141Z
URL:https://business.cmschamber.org/events/details/monthly-mindfulness-with-wendy-o-leary-at-the-heartwell-institute-14036
END:VEVENT

END:VCALENDAR
