BEGIN:VCALENDAR
VERSION:2.0
PRODID:-//ChamberMaster//Event Calendar 2.0//EN
METHOD:PUBLISH
X-PUBLISHED-TTL:P3D
REFRESH-INTERVAL:P3D
CALSCALE:GREGORIAN
BEGIN:VEVENT
DTSTART:20210826T230000Z
DTEND:20210827T020000Z
X-MICROSOFT-CDO-ALLDAYEVENT:FALSE
SUMMARY:Movies on the Lot: The Princess Bride
DESCRIPTION:Movies on the Lot\, a free movie series\, returns for it's second installment 8/26 with a screening of The Princess Bride. The Francis J. McGrath Municipal Parking Lot will open to attendees at 7pm before the movie begins at 8pm. Movies on the Lot is sponsored in part by the City of Worcester\, Downtown Worcester\, and the Worcester Public Library.
X-ALT-DESC;FMTTYPE=text/html:Movies on the Lot\, a free movie series\, returns for it&#39\;s second installment 8/26 with a screening of The Princess Bride. The Francis J. McGrath Municipal Parking Lot will open to attendees at 7pm before the movie begins at 8pm. Movies on the Lot is sponsored in part by the City of Worcester\, Downtown Worcester\, and the Worcester Public Library.
LOCATION:Francis J. McGrath Municipal Parking Lot
UID:e.2083.13033
SEQUENCE:3
DTSTAMP:20260422T104636Z
URL:https://business.cmschamber.org/events/details/movies-on-the-lot-the-princess-bride-13033
END:VEVENT

END:VCALENDAR
