BEGIN:VCALENDAR
VERSION:2.0
PRODID:-//ChamberMaster//Event Calendar 2.0//EN
METHOD:PUBLISH
X-PUBLISHED-TTL:P3D
REFRESH-INTERVAL:P3D
CALSCALE:GREGORIAN
BEGIN:VEVENT
DTSTART:20230509T180000Z
DTEND:20230509T190000Z
X-MICROSOFT-CDO-ALLDAYEVENT:FALSE
SUMMARY:Navigating a Reduction in Force
DESCRIPTION:There may come a time when you are faced with the difficult but necessary decision to lay off some employees as part of a reduction in force or other restructuring initiative at your organization. There are a wide array of laws that may impact a reduction in force\, and you will want to ensure that you understand and comply with all of your legal obligations prior to conducting the layoff.\n\nJoin Bowditch's Danielle Jurema Lederman and Ray Ripple to learn how to:\n\n\n	Determine if there are any applicable notice requirements\n	Assess any severance obligations\n	Ensure the process is fair\n	Define applicable decisional units\n	Avoid a disparate impact\n	Reduce the risk of litigation
X-ALT-DESC;FMTTYPE=text/html:<p>There may come a time when you are faced with the difficult but necessary decision to lay off some employees as part of a reduction in force or other restructuring initiative at your organization. There are a wide array of laws that may impact a reduction in force\, and you will want to ensure that you understand and comply with all of your legal obligations prior to conducting the layoff.</p>\n\n<p>Join Bowditch&#39\;s Danielle Jurema Lederman and Ray Ripple to learn how to:</p>\n\n<ul>\n	<li>Determine if there are any applicable notice requirements</li>\n	<li>Assess any severance obligations</li>\n	<li>Ensure the process is fair</li>\n	<li>Define applicable decisional units</li>\n	<li>Avoid a disparate impact</li>\n	<li>Reduce the risk of litigation</li>\n</ul>\n
LOCATION:Webinar
UID:e.2083.15511
SEQUENCE:3
DTSTAMP:20260421T023246Z
URL:https://business.cmschamber.org/events/details/navigating-a-reduction-in-force-15511
END:VEVENT

END:VCALENDAR
