BEGIN:VCALENDAR
VERSION:2.0
PRODID:-//ChamberMaster//Event Calendar 2.0//EN
METHOD:PUBLISH
X-PUBLISHED-TTL:P3D
REFRESH-INTERVAL:P3D
CALSCALE:GREGORIAN
BEGIN:VEVENT
DTSTART:20230627T213000Z
DTEND:20230627T230000Z
X-MICROSOFT-CDO-ALLDAYEVENT:FALSE
SUMMARY:Navigating Change and Life Transitions As An Entrepreneur
DESCRIPTION:As entrepreneurs we are constantly going through transitions. Whether it was transitioning from employee to CEO\, a side hustle to a full-time business\, and so much more! This workshop is designed to provide participants with the tools and strategies to navigate change and life transitions successfully. Through a combination of interactive activities\, group discussions\, and individual exercises\, participants will gain a deeper understanding of the challenges that come with change and transition. They will develop practical skills to manage these challenges effectively.\n\nAbout the Instructor: The workshop will be facilitated by Madjeen Lorthe\, a trained life coach with extensive experience in helping individuals navigate change and transition. She will create a safe and supportive environment for participants and provide ongoing support and guidance throughout the workshop.
X-ALT-DESC;FMTTYPE=text/html:<p>As entrepreneurs we are constantly going through transitions. Whether it was transitioning from employee to CEO\, a side hustle to a full-time business\, and so much more! This workshop is designed to provide participants with the tools and strategies to navigate change and life transitions successfully. Through a combination of interactive activities\, group discussions\, and individual exercises\, participants will gain a deeper understanding of the challenges that come with change and transition. They will develop practical skills to manage these challenges effectively.</p>\n\n<p>About the Instructor: The workshop will be facilitated by&nbsp\;<strong><a href="http://www.transitionswelldone.com/" style="color: rgb(45\, 119\, 179)\; text-decoration-line: none\;">Madjeen Lorthe</a></strong>\, a trained life coach with extensive experience in helping individuals navigate change and transition. She will create a safe and supportive environment for participants and provide ongoing support and guidance throughout the workshop.</p>\n
LOCATION:69 Milk Street\, Suite 217 \, Westborough MA 01581-1224
UID:e.2083.15963
SEQUENCE:3
DTSTAMP:20260421T005113Z
URL:https://business.cmschamber.org/events/details/navigating-change-and-life-transitions-as-an-entrepreneur-06-27-2023-15963
END:VEVENT

END:VCALENDAR
