BEGIN:VCALENDAR
VERSION:2.0
PRODID:-//ChamberMaster//Event Calendar 2.0//EN
METHOD:PUBLISH
X-PUBLISHED-TTL:P3D
REFRESH-INTERVAL:P3D
CALSCALE:GREGORIAN
BEGIN:VEVENT
DTSTART:20220928T163000Z
DTEND:20220928T200000Z
X-MICROSOFT-CDO-ALLDAYEVENT:FALSE
SUMMARY:New England Veterans Small Business Symposium
DESCRIPTION:Join the Veterans Business Outreach center\, working in partnership with the US Small Business Administration\, at the first New England Veterans Small Business Symposium. We will feature Veteran and Mil-Spouse small businesses\, have workshops focused on business development and operations\, and highlight Small Business Administration resource partners and programs.\n\nThis event\, while targeted towards Veterans and Military Spouses is FREE and open to anyone interested in attending! We hope to see you then!
X-ALT-DESC;FMTTYPE=text/html:<p>Join the Veterans Business Outreach center\, working in partnership with the US Small Business Administration\, at the first New England Veterans Small Business Symposium. We will feature Veteran and Mil-Spouse small businesses\, have workshops focused on business development and operations\, and highlight Small Business Administration resource partners and programs.</p>\n\n<p><em>This event\, while targeted towards Veterans and Military Spouses is FREE and open to anyone interested in attending! We hope to see you then!</em></p>\n
LOCATION:Zoom Event.
UID:e.2083.14058
SEQUENCE:3
DTSTAMP:20260421T155133Z
URL:https://business.cmschamber.org/events/details/new-england-veterans-small-business-symposium-14058
END:VEVENT

END:VCALENDAR
